FILENAME: O4610960.NES.1115297.tif
QUADRANGLE_NAME: GIBSON
QUADRANT: NE
WEST_LONGITUDE: -109 33 45.00000
EAST_LONGITUDE: -109 30 0.00000
NORTH_LATITUDE: 46 7 30.00000
SOUTH_LATITUDE: 46 3 45.00000
PRODUCTION_DATE: 2000 11 16
RASTER_ORDER: LEFT_RIGHT/TOP_BOTTOM
BAND_ORGANIZATION: SINGLE FILE
BAND_CONTENT: BLACK&WHITE
BAND_CONTENT: UNDEFINED
BAND_CONTENT: UNDEFINED
BITS_PER_PIXEL: 8
SAMPLES_AND_LINES: 5640 7650
HORIZONTAL_DATUM: NAD83
HORIZONTAL_COORDINATE_SYSTEM: UTM
COORDINATE_ZONE: 12
HORIZONTAL_UNITS: METERS
HORIZONTAL_RESOLUTION: 1.00000
SECONDARY_HORIZONTAL_DATUM: NAD27
XY_ORIGIN: 610680.00000 5109330.00000
SECONDARY_XY_ORIGIN: 610740.00000 5109118.32400
NATION: US
STATE: MT
NW_QUAD_CORNER_XY: 611057.59300 5108940.37600
NE_QUAD_CORNER_XY: 615886.14300 5109029.62100
SE_QUAD_CORNERY_XY: 616017.15400 5102085.41500
SW_QUAD_CORNER_XY: 611183.14300 5101996.16300
SECONDARY_NW_QUAD_XY: 611060.95200 5108722.35300
SECONDARY_NE_QUAD_XY: 615889.64800 5108811.60000
SECONDARY_SE_QUAD_XY: 616020.65900 5101867.43600
SECONDARY_SW_QUAD_XY: 611186.50200 5101778.18100
RMSE_XY: 1.46000
IMAGE_SOURCE: BLACK AND WHITE FILM
SOURCE_IMAGE_ID: NAPP 9154 21
SOURCE_IMAGE_DATE: 1997 08 28
SOURCE_DEM_DATE: 1985 00 00
AGENCY: WESTERN MAPPING CENTER (WMC)
PRODUCER: ANALYTICAL SURVEYS INC.
PRODUCTION_SYSTEM: ORBIT OR_RECTIFY V.5.2
COMPRESSION: UNDEFINED
STANDARD_VERSION: 1996 12
METADATA_DATE: 2000 11 17
DATA_FILE_SIZE: 43151640
BYTE_COUNT: 5640
