FILENAME: O4610960.SES.1115299.tif
QUADRANGLE_NAME: GIBSON
QUADRANT: SE
WEST_LONGITUDE: -109 33 45.00000
EAST_LONGITUDE: -109 30 0.00000
NORTH_LATITUDE: 46 3 45.00000
SOUTH_LATITUDE: 46 0 0.00000
PRODUCTION_DATE: 2000 11 16
RASTER_ORDER: LEFT_RIGHT/TOP_BOTTOM
BAND_ORGANIZATION: SINGLE FILE
BAND_CONTENT: BLACK&WHITE
BAND_CONTENT: UNDEFINED
BAND_CONTENT: UNDEFINED
BITS_PER_PIXEL: 8
SAMPLES_AND_LINES: 5670 7680
HORIZONTAL_DATUM: NAD83
HORIZONTAL_COORDINATE_SYSTEM: UTM
COORDINATE_ZONE: 12
HORIZONTAL_UNITS: METERS
HORIZONTAL_RESOLUTION: 1.00000
SECONDARY_HORIZONTAL_DATUM: NAD27
XY_ORIGIN: 610800.00000 5102400.00000
SECONDARY_XY_ORIGIN: 610860.04200 5102188.66100
NATION: US
STATE: MT
NW_QUAD_CORNER_XY: 611183.14300 5101996.16300
NE_QUAD_CORNER_XY: 616017.15400 5102085.41500
SE_QUAD_CORNERY_XY: 616148.02700 5095141.28100
SW_QUAD_CORNER_XY: 611308.56100 5095052.02200
SECONDARY_NW_QUAD_XY: 611186.50200 5101778.18100
SECONDARY_NE_QUAD_XY: 616020.65900 5101867.43600
SECONDARY_SE_QUAD_XY: 616151.53100 5094923.34300
SECONDARY_SW_QUAD_XY: 611311.91900 5094834.08100
RMSE_XY: 1.19000
IMAGE_SOURCE: BLACK AND WHITE FILM
SOURCE_IMAGE_ID: NAPP 9154 23
SOURCE_IMAGE_DATE: 1997 08 28
SOURCE_IMAGE_ID: NAPP 9153 214
SOURCE_IMAGE_DATE: 1997 08 28
SOURCE_DEM_DATE: 1985 00 00
AGENCY: WESTERN MAPPING CENTER (WMC)
PRODUCER: ANALYTICAL SURVEYS INC.
PRODUCTION_SYSTEM: ORBIT OR_RECTIFY V.5.2
COMPRESSION: UNDEFINED
STANDARD_VERSION: 1996 12
METADATA_DATE: 2000 11 27
DATA_FILE_SIZE: 43551270
BYTE_COUNT: 5670
