FILENAME: O4610958.SES.1115247.tif
QUADRANGLE_NAME: UPPER GLASTON LAKE
QUADRANT: SE
WEST_LONGITUDE: -109 48 45.00000
EAST_LONGITUDE: -109 45 0.00000
NORTH_LATITUDE: 46 3 45.00000
SOUTH_LATITUDE: 46 0 0.00000
PRODUCTION_DATE: 2000 11 14
RASTER_ORDER: LEFT_RIGHT/TOP_BOTTOM
BAND_ORGANIZATION: SINGLE FILE
BAND_CONTENT: BLACK&WHITE
BAND_CONTENT: UNDEFINED
BAND_CONTENT: UNDEFINED
BITS_PER_PIXEL: 8
SAMPLES_AND_LINES: 5640 7650
HORIZONTAL_DATUM: NAD83
HORIZONTAL_COORDINATE_SYSTEM: UTM
COORDINATE_ZONE: 12
HORIZONTAL_UNITS: METERS
HORIZONTAL_RESOLUTION: 1.00000
SECONDARY_HORIZONTAL_DATUM: NAD27
XY_ORIGIN: 591480.00000 5102070.00000
SECONDARY_XY_ORIGIN: 591539.85400 5101858.47000
NATION: US
STATE: MT
NW_QUAD_CORNER_XY: 591847.05400 5101677.14600
NE_QUAD_CORNER_XY: 596681.08200 5101751.20200
SE_QUAD_CORNERY_XY: 596790.13600 5094807.04200
SW_QUAD_CORNER_XY: 591950.65300 5094732.98100
SECONDARY_NW_QUAD_XY: 591849.82800 5101459.15400
SECONDARY_NE_QUAD_XY: 596684.00300 5101533.21200
SECONDARY_SE_QUAD_XY: 596793.05600 5094589.09400
SECONDARY_SW_QUAD_XY: 591953.42700 5094515.03100
RMSE_XY: 2.84000
IMAGE_SOURCE: BLACK AND WHITE FILM
SOURCE_IMAGE_ID: NAPP 9150 163
SOURCE_IMAGE_DATE: 1996 09 11
SOURCE_DEM_DATE: 1985 00 00
AGENCY: WESTERN MAPPING CENTER (WMC)
PRODUCER: ANALYTICAL SURVEYS INC.
PRODUCTION_SYSTEM: ORBIT OR_RECTIFY V.5.2
COMPRESSION: UNDEFINED
STANDARD_VERSION: 1996 12
METADATA_DATE: 2000 11 14
DATA_FILE_SIZE: 43151640
BYTE_COUNT: 5640
