FILENAME: O4610957.SES.1115243.tif
QUADRANGLE_NAME: MELVILLE
QUADRANT: SE
WEST_LONGITUDE: -109 56 15.00000
EAST_LONGITUDE: -109 52 30.00000
NORTH_LATITUDE: 46 3 45.00000
SOUTH_LATITUDE: 46 0 0.00000
PRODUCTION_DATE: 2000 11 14
RASTER_ORDER: LEFT_RIGHT/TOP_BOTTOM
BAND_ORGANIZATION: SINGLE FILE
BAND_CONTENT: BLACK&WHITE
BAND_CONTENT: UNDEFINED
BAND_CONTENT: UNDEFINED
BITS_PER_PIXEL: 8
SAMPLES_AND_LINES: 5610 7650
HORIZONTAL_DATUM: NAD83
HORIZONTAL_COORDINATE_SYSTEM: UTM
COORDINATE_ZONE: 12
HORIZONTAL_UNITS: METERS
HORIZONTAL_RESOLUTION: 1.00000
SECONDARY_HORIZONTAL_DATUM: NAD27
XY_ORIGIN: 581820.00000 5101920.00000
SECONDARY_XY_ORIGIN: 581879.76100 5101708.50200
NATION: US
STATE: MT
NW_QUAD_CORNER_XY: 582178.98500 5101540.43100
NE_QUAD_CORNER_XY: 587013.02100 5101606.89000
SE_QUAD_CORNERY_XY: 587111.16600 5094662.71900
SW_QUAD_CORNER_XY: 582271.67600 5094596.25600
SECONDARY_NW_QUAD_XY: 582181.46700 5101322.43500
SECONDARY_NE_QUAD_XY: 587015.64900 5101388.89500
SECONDARY_SE_QUAD_XY: 587113.79400 5094444.76600
SECONDARY_SW_QUAD_XY: 582274.15800 5094378.30100
RMSE_XY: 1.77000
IMAGE_SOURCE: BLACK AND WHITE FILM
SOURCE_IMAGE_ID: NAPP 9150 276
SOURCE_IMAGE_DATE: 1996 09 11
SOURCE_DEM_DATE: 1985 00 00
AGENCY: WESTERN MAPPING CENTER (WMC)
PRODUCER: ANALYTICAL SURVEYS INC.
PRODUCTION_SYSTEM: ORBIT OR_RECTIFY V.5.2
COMPRESSION: UNDEFINED
STANDARD_VERSION: 1996 12
METADATA_DATE: 2000 11 15
DATA_FILE_SIZE: 42922110
BYTE_COUNT: 5610
