FILENAME: O4610956.NWS.1122976.tif
QUADRANGLE_NAME: EAGLE POINT
QUADRANT: NW
WEST_LONGITUDE: -109 7 30.00000
EAST_LONGITUDE: -109 3 45.00000
NORTH_LATITUDE: 46 15 0.00000
SOUTH_LATITUDE: 46 11 15.00000
PRODUCTION_DATE: 2000 11 27
RASTER_ORDER: LEFT_RIGHT/TOP_BOTTOM
BAND_ORGANIZATION: SINGLE FILE
BAND_CONTENT: BLACK&WHITE
BAND_CONTENT: UNDEFINED
BAND_CONTENT: UNDEFINED
BITS_PER_PIXEL: 8
SAMPLES_AND_LINES: 5670 7710
HORIZONTAL_DATUM: NAD83
HORIZONTAL_COORDINATE_SYSTEM: UTM
COORDINATE_ZONE: 12
HORIZONTAL_UNITS: METERS
HORIZONTAL_RESOLUTION: 1.00000
SECONDARY_HORIZONTAL_DATUM: NAD27
XY_ORIGIN: 644160.00000 5123970.00000
SECONDARY_XY_ORIGIN: 644220.06400 5123758.03900
NATION: US
STATE: MT
NW_QUAD_CORNER_XY: 644529.23500 5123533.40200
NE_QUAD_CORNER_XY: 649346.80000 5123649.22700
SE_QUAD_CORNERY_XY: 649516.40600 5116704.94500
SW_QUAD_CORNER_XY: 644693.36700 5116589.11000
SECONDARY_NW_QUAD_XY: 644533.61900 5123315.32100
SECONDARY_NE_QUAD_XY: 649351.33000 5123431.15000
SECONDARY_SE_QUAD_XY: 649520.93500 5116486.90700
SECONDARY_SW_QUAD_XY: 644697.75000 5116371.06800
RMSE_XY: 2.13000
IMAGE_SOURCE: BLACK AND WHITE FILM
SOURCE_IMAGE_ID: NAPP 9129 154
SOURCE_IMAGE_DATE: 1996 07 27
SOURCE_DEM_DATE: 1985 00 00
AGENCY: WESTERN MAPPING CENTER (WMC)
PRODUCER: ANALYTICAL SURVEYS INC.
PRODUCTION_SYSTEM: ORBIT OR_RECTIFY V.5.2
COMPRESSION: UNDEFINED
STANDARD_VERSION: 1996 12
METADATA_DATE: 2000 11 28
DATA_FILE_SIZE: 43721370
BYTE_COUNT: 5670
