FILENAME: O4610956.SES.1122977.tif
QUADRANGLE_NAME: EAGLE POINT
QUADRANT: SE
WEST_LONGITUDE: -109 3 45.00000
EAST_LONGITUDE: -109 0 0.00000
NORTH_LATITUDE: 46 11 15.00000
SOUTH_LATITUDE: 46 7 30.00000
PRODUCTION_DATE: 2000 11 27
RASTER_ORDER: LEFT_RIGHT/TOP_BOTTOM
BAND_ORGANIZATION: SINGLE FILE
BAND_CONTENT: BLACK&WHITE
BAND_CONTENT: UNDEFINED
BAND_CONTENT: UNDEFINED
BITS_PER_PIXEL: 8
SAMPLES_AND_LINES: 5700 7680
HORIZONTAL_DATUM: NAD83
HORIZONTAL_COORDINATE_SYSTEM: UTM
COORDINATE_ZONE: 12
HORIZONTAL_UNITS: METERS
HORIZONTAL_RESOLUTION: 1.00000
SECONDARY_HORIZONTAL_DATUM: NAD27
XY_ORIGIN: 649140.00000 5117130.00000
SECONDARY_XY_ORIGIN: 649199.92700 5116918.33100
NATION: US
STATE: MT
NW_QUAD_CORNER_XY: 649516.40600 5116704.94500
NE_QUAD_CORNER_XY: 654339.43800 5116824.58100
SE_QUAD_CORNERY_XY: 654514.33500 5109880.37700
SW_QUAD_CORNER_XY: 649685.83300 5109760.73100
SECONDARY_NW_QUAD_XY: 649520.93500 5116486.90700
SECONDARY_NE_QUAD_XY: 654344.11400 5116606.54700
SECONDARY_SE_QUAD_XY: 654519.00900 5109662.38300
SECONDARY_SW_QUAD_XY: 649690.36200 5109542.73300
RMSE_XY: 1.54000
IMAGE_SOURCE: BLACK AND WHITE FILM
SOURCE_IMAGE_ID: NAPP 9129 86
SOURCE_IMAGE_DATE: 1996 07 27
SOURCE_IMAGE_ID: NAPP 9129 152
SOURCE_IMAGE_DATE: 1996 07 27
SOURCE_DEM_DATE: 1985 00 00
AGENCY: WESTERN MAPPING CENTER (WMC)
PRODUCER: ANALYTICAL SURVEYS INC.
PRODUCTION_SYSTEM: ORBIT OR_RECTIFY V.5.2
COMPRESSION: UNDEFINED
STANDARD_VERSION: 1996 12
METADATA_DATE: 2000 11 28
DATA_FILE_SIZE: 43781700
BYTE_COUNT: 5700
