FILENAME: O4610955.NES.1122971.tif
QUADRANGLE_NAME: MOUNT SINAI
QUADRANT: NE
WEST_LONGITUDE: -109 11 15.00000
EAST_LONGITUDE: -109 7 30.00000
NORTH_LATITUDE: 46 15 0.00000
SOUTH_LATITUDE: 46 11 15.00000
PRODUCTION_DATE: 2000 11 27
RASTER_ORDER: LEFT_RIGHT/TOP_BOTTOM
BAND_ORGANIZATION: SINGLE FILE
BAND_CONTENT: BLACK&WHITE
BAND_CONTENT: UNDEFINED
BAND_CONTENT: UNDEFINED
BITS_PER_PIXEL: 8
SAMPLES_AND_LINES: 5670 7680
HORIZONTAL_DATUM: NAD83
HORIZONTAL_COORDINATE_SYSTEM: UTM
COORDINATE_ZONE: 12
HORIZONTAL_UNITS: METERS
HORIZONTAL_RESOLUTION: 1.00000
SECONDARY_HORIZONTAL_DATUM: NAD27
XY_ORIGIN: 639330.00000 5123850.00000
SECONDARY_XY_ORIGIN: 639390.18700 5123638.02500
NATION: US
STATE: MT
NW_QUAD_CORNER_XY: 639711.66300 5123421.37700
NE_QUAD_CORNER_XY: 644529.23500 5123533.40200
SE_QUAD_CORNERY_XY: 644693.36700 5116589.11000
SW_QUAD_CORNER_XY: 639870.32000 5116477.07500
SECONDARY_NW_QUAD_XY: 639715.90100 5123203.29300
SECONDARY_NE_QUAD_XY: 644533.61900 5123315.32100
SECONDARY_SE_QUAD_XY: 644697.75000 5116371.06800
SECONDARY_SW_QUAD_XY: 639874.55700 5116259.03000
RMSE_XY: 1.02000
IMAGE_SOURCE: BLACK AND WHITE FILM
SOURCE_IMAGE_ID: NAPP 9130 68
SOURCE_IMAGE_DATE: 1996 07 27
SOURCE_IMAGE_ID: NAPP 9130 70
SOURCE_IMAGE_DATE: 1996 07 27
SOURCE_IMAGE_ID: NAPP 9130 122
SOURCE_IMAGE_DATE: 1996 07 27
SOURCE_DEM_DATE: 1985 00 00
AGENCY: WESTERN MAPPING CENTER (WMC)
PRODUCER: ANALYTICAL SURVEYS INC.
PRODUCTION_SYSTEM: ORBIT OR_RECTIFY V.5.2
COMPRESSION: UNDEFINED
STANDARD_VERSION: 1996 12
METADATA_DATE: 2001 01 16
DATA_FILE_SIZE: 43551270
BYTE_COUNT: 5670
