FILENAME: O4610955.SES.1122973.tif
QUADRANGLE_NAME: MOUNT SINAI
QUADRANT: SE
WEST_LONGITUDE: -109 11 15.00000
EAST_LONGITUDE: -109 7 30.00000
NORTH_LATITUDE: 46 11 15.00000
SOUTH_LATITUDE: 46 7 30.00000
PRODUCTION_DATE: 2000 11 27
RASTER_ORDER: LEFT_RIGHT/TOP_BOTTOM
BAND_ORGANIZATION: SINGLE FILE
BAND_CONTENT: BLACK&WHITE
BAND_CONTENT: UNDEFINED
BAND_CONTENT: UNDEFINED
BITS_PER_PIXEL: 8
SAMPLES_AND_LINES: 5670 7680
HORIZONTAL_DATUM: NAD83
HORIZONTAL_COORDINATE_SYSTEM: UTM
COORDINATE_ZONE: 12
HORIZONTAL_UNITS: METERS
HORIZONTAL_RESOLUTION: 1.00000
SECONDARY_HORIZONTAL_DATUM: NAD27
XY_ORIGIN: 639510.00000 5116890.00000
SECONDARY_XY_ORIGIN: 639570.13300 5116678.32800
NATION: US
STATE: MT
NW_QUAD_CORNER_XY: 639870.32000 5116477.07500
NE_QUAD_CORNER_XY: 644693.36700 5116589.11000
SE_QUAD_CORNERY_XY: 644857.32500 5109644.88600
SW_QUAD_CORNER_XY: 640028.81000 5109532.84100
SECONDARY_NW_QUAD_XY: 639874.55700 5116259.03000
SECONDARY_NE_QUAD_XY: 644697.75000 5116371.06800
SECONDARY_SE_QUAD_XY: 644861.70700 5109426.88400
SECONDARY_SW_QUAD_XY: 640033.04600 5109314.83600
RMSE_XY: 1.50000
IMAGE_SOURCE: BLACK AND WHITE FILM
SOURCE_IMAGE_ID: NAPP 9130 70
SOURCE_IMAGE_DATE: 1996 07 27
SOURCE_IMAGE_ID: NAPP 9130 120
SOURCE_IMAGE_DATE: 1996 07 27
SOURCE_DEM_DATE: 1985 00 00
AGENCY: WESTERN MAPPING CENTER (WMC)
PRODUCER: ANALYTICAL SURVEYS INC.
PRODUCTION_SYSTEM: ORBIT OR_RECTIFY V.5.2
COMPRESSION: UNDEFINED
STANDARD_VERSION: 1996 12
METADATA_DATE: 2000 11 28
DATA_FILE_SIZE: 43551270
BYTE_COUNT: 5670
