FILENAME: O4610954.NWS.1122968.tif
QUADRANGLE_NAME: LOCOMOTIVE BUTTE
QUADRANT: NW
WEST_LONGITUDE: -109 22 30.00000
EAST_LONGITUDE: -109 18 45.00000
NORTH_LATITUDE: 46 15 0.00000
SOUTH_LATITUDE: 46 11 15.00000
PRODUCTION_DATE: 2000 11 27
RASTER_ORDER: LEFT_RIGHT/TOP_BOTTOM
BAND_ORGANIZATION: SINGLE FILE
BAND_CONTENT: BLACK&WHITE
BAND_CONTENT: UNDEFINED
BAND_CONTENT: UNDEFINED
BITS_PER_PIXEL: 8
SAMPLES_AND_LINES: 5640 7680
HORIZONTAL_DATUM: NAD83
HORIZONTAL_COORDINATE_SYSTEM: UTM
COORDINATE_ZONE: 12
HORIZONTAL_UNITS: METERS
HORIZONTAL_RESOLUTION: 1.00000
SECONDARY_HORIZONTAL_DATUM: NAD27
XY_ORIGIN: 624900.00000 5123520.00000
SECONDARY_XY_ORIGIN: 624960.17500 5123307.88200
NATION: US
STATE: MT
NW_QUAD_CORNER_XY: 625258.90600 5123108.10000
NE_QUAD_CORNER_XY: 630076.49900 5123208.72700
SE_QUAD_CORNERY_XY: 630224.20800 5116264.40500
SW_QUAD_CORNER_XY: 625401.14200 5116163.77000
SECONDARY_NW_QUAD_XY: 625262.70600 5122890.00700
SECONDARY_NE_QUAD_XY: 630080.44400 5122990.63600
SECONDARY_SE_QUAD_XY: 630228.15200 5116046.35400
SECONDARY_SW_QUAD_XY: 625404.94000 5115945.71500
RMSE_XY: 1.00000
IMAGE_SOURCE: BLACK AND WHITE FILM
SOURCE_IMAGE_ID: NAPP 9149 14
SOURCE_IMAGE_DATE: 1996 09 02
SOURCE_IMAGE_ID: NAPP 9149 16
SOURCE_IMAGE_DATE: 1996 09 02
SOURCE_DEM_DATE: 1985 00 00
AGENCY: WESTERN MAPPING CENTER (WMC)
PRODUCER: ANALYTICAL SURVEYS INC.
PRODUCTION_SYSTEM: ORBIT OR_RECTIFY V.5.2
COMPRESSION: UNDEFINED
STANDARD_VERSION: 1996 12
METADATA_DATE: 2001 01 16
DATA_FILE_SIZE: 43320840
BYTE_COUNT: 5640
