FILENAME: O4610953.SWS.1115228.tif
QUADRANGLE_NAME: O'BRIEN HILL
QUADRANT: SW
WEST_LONGITUDE: -109 30 0.00000
EAST_LONGITUDE: -109 26 15.00000
NORTH_LATITUDE: 46 11 15.00000
SOUTH_LATITUDE: 46 7 30.00000
PRODUCTION_DATE: 2000 11 16
RASTER_ORDER: LEFT_RIGHT/TOP_BOTTOM
BAND_ORGANIZATION: SINGLE FILE
BAND_CONTENT: BLACK&WHITE
BAND_CONTENT: UNDEFINED
BAND_CONTENT: UNDEFINED
BITS_PER_PIXEL: 8
SAMPLES_AND_LINES: 5640 7680
HORIZONTAL_DATUM: NAD83
HORIZONTAL_COORDINATE_SYSTEM: UTM
COORDINATE_ZONE: 12
HORIZONTAL_UNITS: METERS
HORIZONTAL_RESOLUTION: 1.00000
SECONDARY_HORIZONTAL_DATUM: NAD27
XY_ORIGIN: 615390.00000 5116380.00000
SECONDARY_XY_ORIGIN: 615450.05600 5116168.08100
NATION: US
STATE: MT
NW_QUAD_CORNER_XY: 615754.99200 5115973.89800
NE_QUAD_CORNER_XY: 620578.07000 5116066.93400
SE_QUAD_CORNERY_XY: 620714.68700 5109122.66500
SW_QUAD_CORNER_XY: 615886.14300 5109029.62100
SECONDARY_NW_QUAD_XY: 615758.49800 5115755.83700
SECONDARY_NE_QUAD_XY: 620581.72200 5115848.87700
SECONDARY_SE_QUAD_XY: 620718.33900 5108904.64800
SECONDARY_SW_QUAD_XY: 615889.64800 5108811.60000
RMSE_XY: 0.82000
IMAGE_SOURCE: BLACK AND WHITE FILM
SOURCE_IMAGE_ID: NAPP 9153 218
SOURCE_IMAGE_DATE: 1997 08 28
SOURCE_DEM_DATE: 1985 00 00
AGENCY: WESTERN MAPPING CENTER (WMC)
PRODUCER: ANALYTICAL SURVEYS INC.
PRODUCTION_SYSTEM: ORBIT OR_RECTIFY V.5.2
COMPRESSION: UNDEFINED
STANDARD_VERSION: 1996 12
METADATA_DATE: 2000 11 16
DATA_FILE_SIZE: 43320840
BYTE_COUNT: 5640
