FILENAME: O4610952.NES.1115221.tif
QUADRANGLE_NAME: PROGRESS
QUADRANT: NE
WEST_LONGITUDE: -109 33 45.00000
EAST_LONGITUDE: -109 30 0.00000
NORTH_LATITUDE: 46 15 0.00000
SOUTH_LATITUDE: 46 11 15.00000
PRODUCTION_DATE: 2000 11 16
RASTER_ORDER: LEFT_RIGHT/TOP_BOTTOM
BAND_ORGANIZATION: SINGLE FILE
BAND_CONTENT: BLACK&WHITE
BAND_CONTENT: UNDEFINED
BAND_CONTENT: UNDEFINED
BITS_PER_PIXEL: 8
SAMPLES_AND_LINES: 5640 7650
HORIZONTAL_DATUM: NAD83
HORIZONTAL_COORDINATE_SYSTEM: UTM
COORDINATE_ZONE: 12
HORIZONTAL_UNITS: METERS
HORIZONTAL_RESOLUTION: 1.00000
SECONDARY_HORIZONTAL_DATUM: NAD27
XY_ORIGIN: 610440.00000 5123220.00000
SECONDARY_XY_ORIGIN: 610499.91600 5123007.65300
NATION: US
STATE: MT
NW_QUAD_CORNER_XY: 610806.09200 5122829.01600
NE_QUAD_CORNER_XY: 615623.70300 5122918.24500
SE_QUAD_CORNERY_XY: 615754.99200 5115973.89800
SW_QUAD_CORNER_XY: 610931.90900 5115884.66000
SECONDARY_NW_QUAD_XY: 610809.45300 5122610.91400
SECONDARY_NE_QUAD_XY: 615627.21000 5122700.14600
SECONDARY_SE_QUAD_XY: 615758.49800 5115755.83700
SECONDARY_SW_QUAD_XY: 610935.26900 5115666.59700
RMSE_XY: 1.45000
IMAGE_SOURCE: BLACK AND WHITE FILM
SOURCE_IMAGE_ID: NAPP 9154 17
SOURCE_IMAGE_DATE: 1997 08 28
SOURCE_DEM_DATE: 1985 00 00
AGENCY: WESTERN MAPPING CENTER (WMC)
PRODUCER: ANALYTICAL SURVEYS INC.
PRODUCTION_SYSTEM: ORBIT OR_RECTIFY V.5.2
COMPRESSION: UNDEFINED
STANDARD_VERSION: 1996 12
METADATA_DATE: 2000 11 16
DATA_FILE_SIZE: 43151640
BYTE_COUNT: 5640
