FILENAME: O4610952.SES.1115223.tif
QUADRANGLE_NAME: PROGRESS
QUADRANT: SE
WEST_LONGITUDE: -109 33 45.00000
EAST_LONGITUDE: -109 30 0.00000
NORTH_LATITUDE: 46 11 15.00000
SOUTH_LATITUDE: 46 7 30.00000
PRODUCTION_DATE: 2000 11 16
RASTER_ORDER: LEFT_RIGHT/TOP_BOTTOM
BAND_ORGANIZATION: SINGLE FILE
BAND_CONTENT: BLACK&WHITE
BAND_CONTENT: UNDEFINED
BAND_CONTENT: UNDEFINED
BITS_PER_PIXEL: 8
SAMPLES_AND_LINES: 5640 7680
HORIZONTAL_DATUM: NAD83
HORIZONTAL_COORDINATE_SYSTEM: UTM
COORDINATE_ZONE: 12
HORIZONTAL_UNITS: METERS
HORIZONTAL_RESOLUTION: 1.00000
SECONDARY_HORIZONTAL_DATUM: NAD27
XY_ORIGIN: 610560.00000 5116290.00000
SECONDARY_XY_ORIGIN: 610619.95800 5116077.98700
NATION: US
STATE: MT
NW_QUAD_CORNER_XY: 610931.90900 5115884.66000
NE_QUAD_CORNER_XY: 615754.99200 5115973.89800
SE_QUAD_CORNERY_XY: 615886.14300 5109029.62100
SW_QUAD_CORNER_XY: 611057.59300 5108940.37600
SECONDARY_NW_QUAD_XY: 610935.26900 5115666.59700
SECONDARY_NE_QUAD_XY: 615758.49800 5115755.83700
SECONDARY_SE_QUAD_XY: 615889.64800 5108811.60000
SECONDARY_SW_QUAD_XY: 611060.95200 5108722.35300
RMSE_XY: 1.42000
IMAGE_SOURCE: BLACK AND WHITE FILM
SOURCE_IMAGE_ID: NAPP 9154 19
SOURCE_IMAGE_DATE: 1997 08 28
SOURCE_DEM_DATE: 1985 00 00
AGENCY: WESTERN MAPPING CENTER (WMC)
PRODUCER: ANALYTICAL SURVEYS INC.
PRODUCTION_SYSTEM: ORBIT OR_RECTIFY V.5.2
COMPRESSION: UNDEFINED
STANDARD_VERSION: 1996 12
METADATA_DATE: 2000 11 16
DATA_FILE_SIZE: 43320840
BYTE_COUNT: 5640
