FILENAME: O4610952.SWS.1115224.tif
QUADRANGLE_NAME: PROGRESS
QUADRANT: SW
WEST_LONGITUDE: -109 37 30.00000
EAST_LONGITUDE: -109 33 45.00000
NORTH_LATITUDE: 46 11 15.00000
SOUTH_LATITUDE: 46 7 30.00000
PRODUCTION_DATE: 2000 11 16
RASTER_ORDER: LEFT_RIGHT/TOP_BOTTOM
BAND_ORGANIZATION: SINGLE FILE
BAND_CONTENT: BLACK&WHITE
BAND_CONTENT: UNDEFINED
BAND_CONTENT: UNDEFINED
BITS_PER_PIXEL: 8
SAMPLES_AND_LINES: 5640 7680
HORIZONTAL_DATUM: NAD83
HORIZONTAL_COORDINATE_SYSTEM: UTM
COORDINATE_ZONE: 12
HORIZONTAL_UNITS: METERS
HORIZONTAL_RESOLUTION: 1.00000
SECONDARY_HORIZONTAL_DATUM: NAD27
XY_ORIGIN: 605730.00000 5116200.00000
SECONDARY_XY_ORIGIN: 605789.86100 5115987.89200
NATION: US
STATE: MT
NW_QUAD_CORNER_XY: 606108.82000 5115799.22100
NE_QUAD_CORNER_XY: 610931.90900 5115884.66000
SE_QUAD_CORNERY_XY: 611057.59300 5108940.37600
SW_QUAD_CORNER_XY: 606229.03800 5108854.93000
SECONDARY_NW_QUAD_XY: 606112.03400 5115581.15600
SECONDARY_NE_QUAD_XY: 610935.26900 5115666.59700
SECONDARY_SE_QUAD_XY: 611060.95200 5108722.35300
SECONDARY_SW_QUAD_XY: 606232.25100 5108636.90400
RMSE_XY: 1.79000
IMAGE_SOURCE: BLACK AND WHITE FILM
SOURCE_IMAGE_ID: NAPP 9150 41
SOURCE_IMAGE_DATE: 1996 09 11
SOURCE_DEM_DATE: 1985 00 00
AGENCY: WESTERN MAPPING CENTER (WMC)
PRODUCER: ANALYTICAL SURVEYS INC.
PRODUCTION_SYSTEM: ORBIT OR_RECTIFY V.5.2
COMPRESSION: UNDEFINED
STANDARD_VERSION: 1996 12
METADATA_DATE: 2000 11 16
DATA_FILE_SIZE: 43320840
BYTE_COUNT: 5640
