FILENAME: O4610951.SES.1115219.tif
QUADRANGLE_NAME: JIM CREEK
QUADRANT: SE
WEST_LONGITUDE: -109 41 15.00000
EAST_LONGITUDE: -109 37 30.00000
NORTH_LATITUDE: 46 11 15.00000
SOUTH_LATITUDE: 46 7 30.00000
PRODUCTION_DATE: 2000 11 16
RASTER_ORDER: LEFT_RIGHT/TOP_BOTTOM
BAND_ORGANIZATION: SINGLE FILE
BAND_CONTENT: BLACK&WHITE
BAND_CONTENT: UNDEFINED
BAND_CONTENT: UNDEFINED
BITS_PER_PIXEL: 8
SAMPLES_AND_LINES: 5640 7650
HORIZONTAL_DATUM: NAD83
HORIZONTAL_COORDINATE_SYSTEM: UTM
COORDINATE_ZONE: 12
HORIZONTAL_UNITS: METERS
HORIZONTAL_RESOLUTION: 1.00000
SECONDARY_HORIZONTAL_DATUM: NAD27
XY_ORIGIN: 600900.00000 5116110.00000
SECONDARY_XY_ORIGIN: 600959.76400 5115897.79700
NATION: US
STATE: MT
NW_QUAD_CORNER_XY: 601285.72700 5115717.58100
NE_QUAD_CORNER_XY: 606108.82000 5115799.22100
SE_QUAD_CORNERY_XY: 606229.03800 5108854.93000
SW_QUAD_CORNER_XY: 601400.47800 5108773.28300
SECONDARY_NW_QUAD_XY: 601288.79500 5115499.51300
SECONDARY_NE_QUAD_XY: 606112.03400 5115581.15600
SECONDARY_SE_QUAD_XY: 606232.25100 5108636.90400
SECONDARY_SW_QUAD_XY: 601403.54500 5108555.25400
RMSE_XY: 2.19000
IMAGE_SOURCE: BLACK AND WHITE FILM
SOURCE_IMAGE_ID: NAPP 9150 92
SOURCE_IMAGE_DATE: 1996 09 11
SOURCE_DEM_DATE: 1985 00 00
AGENCY: WESTERN MAPPING CENTER (WMC)
PRODUCER: ANALYTICAL SURVEYS INC.
PRODUCTION_SYSTEM: ORBIT OR_RECTIFY V.5.2
COMPRESSION: UNDEFINED
STANDARD_VERSION: 1996 12
METADATA_DATE: 2000 11 16
DATA_FILE_SIZE: 43151640
BYTE_COUNT: 5640
