FILENAME: O4610951.SWS.1115220.tif
QUADRANGLE_NAME: JIM CREEK
QUADRANT: SW
WEST_LONGITUDE: -109 45 0.00000
EAST_LONGITUDE: -109 41 15.00000
NORTH_LATITUDE: 46 11 15.00000
SOUTH_LATITUDE: 46 7 30.00000
PRODUCTION_DATE: 2000 11 16
RASTER_ORDER: LEFT_RIGHT/TOP_BOTTOM
BAND_ORGANIZATION: SINGLE FILE
BAND_CONTENT: BLACK&WHITE
BAND_CONTENT: UNDEFINED
BAND_CONTENT: UNDEFINED
BITS_PER_PIXEL: 8
SAMPLES_AND_LINES: 5610 7650
HORIZONTAL_DATUM: NAD83
HORIZONTAL_COORDINATE_SYSTEM: UTM
COORDINATE_ZONE: 12
HORIZONTAL_UNITS: METERS
HORIZONTAL_RESOLUTION: 1.00000
SECONDARY_HORIZONTAL_DATUM: NAD27
XY_ORIGIN: 596100.00000 5116020.00000
SECONDARY_XY_ORIGIN: 596159.66700 5115807.70300
NATION: US
STATE: MT
NW_QUAD_CORNER_XY: 596462.62800 5115639.73900
NE_QUAD_CORNER_XY: 601285.72700 5115717.58100
SE_QUAD_CORNERY_XY: 601400.47800 5108773.28300
SW_QUAD_CORNER_XY: 596571.91300 5108695.43400
SECONDARY_NW_QUAD_XY: 596465.55000 5115421.66900
SECONDARY_NE_QUAD_XY: 601288.79500 5115499.51300
SECONDARY_SE_QUAD_XY: 601403.54500 5108555.25400
SECONDARY_SW_QUAD_XY: 596574.83400 5108477.40400
RMSE_XY: 1.67000
IMAGE_SOURCE: BLACK AND WHITE FILM
SOURCE_IMAGE_ID: NAPP 9154 68
SOURCE_IMAGE_DATE: 1997 08 28
SOURCE_DEM_DATE: 1985 00 00
AGENCY: WESTERN MAPPING CENTER (WMC)
PRODUCER: ANALYTICAL SURVEYS INC.
PRODUCTION_SYSTEM: ORBIT OR_RECTIFY V.5.2
COMPRESSION: UNDEFINED
STANDARD_VERSION: 1996 12
METADATA_DATE: 2000 11 16
DATA_FILE_SIZE: 42922110
BYTE_COUNT: 5610
