FILENAME: O4610950.NES.1115233.tif
QUADRANGLE_NAME: GOUGLEY CREEK
QUADRANT: NE
WEST_LONGITUDE: -109 48 45.00000
EAST_LONGITUDE: -109 45 0.00000
NORTH_LATITUDE: 46 15 0.00000
SOUTH_LATITUDE: 46 11 15.00000
PRODUCTION_DATE: 2000 11 10
RASTER_ORDER: LEFT_RIGHT/TOP_BOTTOM
BAND_ORGANIZATION: SINGLE FILE
BAND_CONTENT: BLACK&WHITE
BAND_CONTENT: UNDEFINED
BAND_CONTENT: UNDEFINED
BITS_PER_PIXEL: 8
SAMPLES_AND_LINES: 5640 7650
HORIZONTAL_DATUM: NAD83
HORIZONTAL_COORDINATE_SYSTEM: UTM
COORDINATE_ZONE: 12
HORIZONTAL_UNITS: METERS
HORIZONTAL_RESOLUTION: 1.00000
SECONDARY_HORIZONTAL_DATUM: NAD27
XY_ORIGIN: 591150.00000 5122890.00000
SECONDARY_XY_ORIGIN: 591209.48300 5122677.36200
NATION: US
STATE: MT
NW_QUAD_CORNER_XY: 591535.59600 5122510.08000
NE_QUAD_CORNER_XY: 596353.22800 5122584.11700
SE_QUAD_CORNERY_XY: 596462.62800 5115639.73900
SW_QUAD_CORNER_XY: 591639.52500 5115565.69600
SECONDARY_NW_QUAD_XY: 591538.37300 5122291.96900
SECONDARY_NE_QUAD_XY: 596356.15000 5122366.00800
SECONDARY_SE_QUAD_XY: 596465.55000 5115421.66900
SECONDARY_SW_QUAD_XY: 591642.30100 5115347.62300
RMSE_XY: 1.02000
IMAGE_SOURCE: BLACK AND WHITE FILM
SOURCE_IMAGE_ID: NAPP 9150 157
SOURCE_IMAGE_DATE: 1996 09 11
SOURCE_DEM_DATE: 1985 00 00
AGENCY: WESTERN MAPPING CENTER (WMC)
PRODUCER: ANALYTICAL SURVEYS INC.
PRODUCTION_SYSTEM: ORBIT OR_RECTIFY V.5.2
COMPRESSION: UNDEFINED
STANDARD_VERSION: 1996 12
METADATA_DATE: 2000 11 13
DATA_FILE_SIZE: 43151640
BYTE_COUNT: 5640
