FILENAME: O4610950.NWS.1115234.tif
QUADRANGLE_NAME: GOUGLEY CREEK
QUADRANT: NW
WEST_LONGITUDE: -109 52 30.00000
EAST_LONGITUDE: -109 48 45.00000
NORTH_LATITUDE: 46 15 0.00000
SOUTH_LATITUDE: 46 11 15.00000
PRODUCTION_DATE: 2000 11 10
RASTER_ORDER: LEFT_RIGHT/TOP_BOTTOM
BAND_ORGANIZATION: SINGLE FILE
BAND_CONTENT: BLACK&WHITE
BAND_CONTENT: UNDEFINED
BAND_CONTENT: UNDEFINED
BITS_PER_PIXEL: 8
SAMPLES_AND_LINES: 5610 7650
HORIZONTAL_DATUM: NAD83
HORIZONTAL_COORDINATE_SYSTEM: UTM
COORDINATE_ZONE: 12
HORIZONTAL_UNITS: METERS
HORIZONTAL_RESOLUTION: 1.00000
SECONDARY_HORIZONTAL_DATUM: NAD27
XY_ORIGIN: 586350.00000 5122830.00000
SECONDARY_XY_ORIGIN: 586409.42200 5122617.39100
NATION: US
STATE: MT
NW_QUAD_CORNER_XY: 586717.96000 5122439.84100
NE_QUAD_CORNER_XY: 591535.59600 5122510.08000
SE_QUAD_CORNERY_XY: 591639.52500 5115565.69600
SW_QUAD_CORNER_XY: 586816.41800 5115495.45100
SECONDARY_NW_QUAD_XY: 586720.59000 5122221.72700
SECONDARY_NE_QUAD_XY: 591538.37300 5122291.96900
SECONDARY_SE_QUAD_XY: 591642.30100 5115347.62300
SECONDARY_SW_QUAD_XY: 586819.04800 5115277.37600
RMSE_XY: 1.27000
IMAGE_SOURCE: BLACK AND WHITE FILM
SOURCE_IMAGE_ID: NAPP 9150 196
SOURCE_IMAGE_DATE: 1996 09 11
SOURCE_DEM_DATE: 1985 00 00
AGENCY: WESTERN MAPPING CENTER (WMC)
PRODUCER: ANALYTICAL SURVEYS INC.
PRODUCTION_SYSTEM: ORBIT OR_RECTIFY V.5.2
COMPRESSION: UNDEFINED
STANDARD_VERSION: 1996 12
METADATA_DATE: 2000 11 13
DATA_FILE_SIZE: 42922110
BYTE_COUNT: 5610
