FILENAME: O4610950.SES.1115235.tif
QUADRANGLE_NAME: GOUGLEY CREEK
QUADRANT: SE
WEST_LONGITUDE: -109 48 45.00000
EAST_LONGITUDE: -109 45 0.00000
NORTH_LATITUDE: 46 11 15.00000
SOUTH_LATITUDE: 46 7 30.00000
PRODUCTION_DATE: 2000 11 10
RASTER_ORDER: LEFT_RIGHT/TOP_BOTTOM
BAND_ORGANIZATION: SINGLE FILE
BAND_CONTENT: BLACK&WHITE
BAND_CONTENT: UNDEFINED
BAND_CONTENT: UNDEFINED
BITS_PER_PIXEL: 8
SAMPLES_AND_LINES: 5610 7650
HORIZONTAL_DATUM: NAD83
HORIZONTAL_COORDINATE_SYSTEM: UTM
COORDINATE_ZONE: 12
HORIZONTAL_UNITS: METERS
HORIZONTAL_RESOLUTION: 1.00000
SECONDARY_HORIZONTAL_DATUM: NAD27
XY_ORIGIN: 591270.00000 5115960.00000
SECONDARY_XY_ORIGIN: 591329.60700 5115747.73000
NATION: US
STATE: MT
NW_QUAD_CORNER_XY: 591639.52500 5115565.69600
NE_QUAD_CORNER_XY: 596462.62800 5115639.73900
SE_QUAD_CORNERY_XY: 596571.91300 5108695.43400
SW_QUAD_CORNER_XY: 591743.34400 5108621.38500
SECONDARY_NW_QUAD_XY: 591642.30100 5115347.62300
SECONDARY_NE_QUAD_XY: 596465.55000 5115421.66900
SECONDARY_SE_QUAD_XY: 596574.83400 5108477.40400
SECONDARY_SW_QUAD_XY: 591746.12000 5108403.35200
RMSE_XY: 2.72000
IMAGE_SOURCE: BLACK AND WHITE FILM
SOURCE_IMAGE_ID: NAPP 9150 159
SOURCE_IMAGE_DATE: 1996 09 11
SOURCE_DEM_DATE: 1985 00 00
AGENCY: WESTERN MAPPING CENTER (WMC)
PRODUCER: ANALYTICAL SURVEYS INC.
PRODUCTION_SYSTEM: ORBIT OR_RECTIFY V.5.2
COMPRESSION: UNDEFINED
STANDARD_VERSION: 1996 12
METADATA_DATE: 2000 11 14
DATA_FILE_SIZE: 42922110
BYTE_COUNT: 5610
