FILENAME: O4610948.NES.1150835.tif
QUADRANGLE_NAME: CUSHMAN
QUADRANT: NE
WEST_LONGITUDE: -109 3 45.00000
EAST_LONGITUDE: -109 0 0.00000
NORTH_LATITUDE: 46 22 30.00000
SOUTH_LATITUDE: 46 18 45.00000
PRODUCTION_DATE: 2001 05 21
RASTER_ORDER: LEFT_RIGHT/TOP_BOTTOM
BAND_ORGANIZATION: SINGLE FILE
BAND_CONTENT: BLACK&WHITE
BAND_CONTENT: UNDEFINED
BAND_CONTENT: UNDEFINED
BITS_PER_PIXEL: 8
SAMPLES_AND_LINES: 5670 7710
HORIZONTAL_DATUM: NAD83
HORIZONTAL_COORDINATE_SYSTEM: UTM
COORDINATE_ZONE: 12
HORIZONTAL_UNITS: METERS
HORIZONTAL_RESOLUTION: 1.00000
SECONDARY_HORIZONTAL_DATUM: NAD27
XY_ORIGIN: 648630.00000 5137980.00000
SECONDARY_XY_ORIGIN: 648689.77000 5137767.68500
NATION: US
STATE: MT
NW_QUAD_CORNER_XY: 649007.05100 5137537.99300
NE_QUAD_CORNER_XY: 653813.64000 5137657.59500
SE_QUAD_CORNERY_XY: 653989.09100 5130713.19000
SW_QUAD_CORNER_XY: 649177.01500 5130593.57600
SECONDARY_NW_QUAD_XY: 649011.58300 5137319.84000
SECONDARY_NE_QUAD_XY: 653818.31800 5137439.44600
SECONDARY_SE_QUAD_XY: 653993.76800 5130495.07800
SECONDARY_SW_QUAD_XY: 649181.54600 5130375.46100
RMSE_XY: 1.82000
IMAGE_SOURCE: BLACK AND WHITE FILM
SOURCE_IMAGE_ID: NAPP 9129 80
SOURCE_IMAGE_DATE: 1996 07 27
SOURCE_DEM_DATE: 1986 00 00
AGENCY: WESTERN MAPPING CENTER (WMC)
PRODUCER: ANALYTICAL SURVEYS INC.
PRODUCTION_SYSTEM: ORBIT OR_RECTIFY V.5.2
COMPRESSION: UNDEFINED
STANDARD_VERSION: 1996 12
METADATA_DATE: 2001 05 22
DATA_FILE_SIZE: 43721370
BYTE_COUNT: 5670
