FILENAME: O4610948.SWS.1150838.tif
QUADRANGLE_NAME: CUSHMAN
QUADRANT: SW
WEST_LONGITUDE: -109 7 30.00000
EAST_LONGITUDE: -109 3 45.00000
NORTH_LATITUDE: 46 18 45.00000
SOUTH_LATITUDE: 46 15 0.00000
PRODUCTION_DATE: 2001 05 21
RASTER_ORDER: LEFT_RIGHT/TOP_BOTTOM
BAND_ORGANIZATION: SINGLE FILE
BAND_CONTENT: BLACK&WHITE
BAND_CONTENT: UNDEFINED
BAND_CONTENT: UNDEFINED
BITS_PER_PIXEL: 8
SAMPLES_AND_LINES: 5670 7680
HORIZONTAL_DATUM: NAD83
HORIZONTAL_COORDINATE_SYSTEM: UTM
COORDINATE_ZONE: 12
HORIZONTAL_UNITS: METERS
HORIZONTAL_RESOLUTION: 1.00000
SECONDARY_HORIZONTAL_DATUM: NAD27
XY_ORIGIN: 643980.00000 5130900.00000
SECONDARY_XY_ORIGIN: 644039.97100 5130687.85600
NATION: US
STATE: MT
NW_QUAD_CORNER_XY: 644364.93100 5130477.76200
NE_QUAD_CORNER_XY: 649177.01500 5130593.57600
SE_QUAD_CORNERY_XY: 649346.80000 5123649.22700
SW_QUAD_CORNER_XY: 644529.23500 5123533.40200
SECONDARY_NW_QUAD_XY: 644369.31600 5130259.64400
SECONDARY_NE_QUAD_XY: 649181.54600 5130375.46100
SECONDARY_SE_QUAD_XY: 649351.33000 5123431.15000
SECONDARY_SW_QUAD_XY: 644533.61900 5123315.32100
RMSE_XY: 1.79000
IMAGE_SOURCE: BLACK AND WHITE FILM
SOURCE_IMAGE_ID: NAPP 9129 156
SOURCE_IMAGE_DATE: 1996 07 27
SOURCE_DEM_DATE: 1986 00 00
AGENCY: WESTERN MAPPING CENTER (WMC)
PRODUCER: ANALYTICAL SURVEYS INC.
PRODUCTION_SYSTEM: ORBIT OR_RECTIFY V.5.2
COMPRESSION: UNDEFINED
STANDARD_VERSION: 1996 12
METADATA_DATE: 2001 05 22
DATA_FILE_SIZE: 43551270
BYTE_COUNT: 5670
