FILENAME: O4610946.SWS.1150802.tif
QUADRANGLE_NAME: RYEGATE WEST
QUADRANT: SW
WEST_LONGITUDE: -109 22 30.00000
EAST_LONGITUDE: -109 18 45.00000
NORTH_LATITUDE: 46 18 45.00000
SOUTH_LATITUDE: 46 15 0.00000
PRODUCTION_DATE: 2001 05 16
RASTER_ORDER: LEFT_RIGHT/TOP_BOTTOM
BAND_ORGANIZATION: SINGLE FILE
BAND_CONTENT: BLACK&WHITE
BAND_CONTENT: UNDEFINED
BAND_CONTENT: UNDEFINED
BITS_PER_PIXEL: 8
SAMPLES_AND_LINES: 5640 7680
HORIZONTAL_DATUM: NAD83
HORIZONTAL_COORDINATE_SYSTEM: UTM
COORDINATE_ZONE: 12
HORIZONTAL_UNITS: METERS
HORIZONTAL_RESOLUTION: 1.00000
SECONDARY_HORIZONTAL_DATUM: NAD27
XY_ORIGIN: 624750.00000 5130480.00000
SECONDARY_XY_ORIGIN: 624810.07800 5130267.72900
NATION: US
STATE: MT
NW_QUAD_CORNER_XY: 625116.52100 5130052.50100
NE_QUAD_CORNER_XY: 629928.63400 5130153.11800
SE_QUAD_CORNERY_XY: 630076.49900 5123208.72700
SW_QUAD_CORNER_XY: 625258.90600 5123108.10000
SECONDARY_NW_QUAD_XY: 625120.32100 5129834.36900
SECONDARY_NE_QUAD_XY: 629932.58000 5129934.98900
SECONDARY_SE_QUAD_XY: 630080.44400 5122990.63600
SECONDARY_SW_QUAD_XY: 625262.70600 5122890.00700
RMSE_XY: 1.78000
IMAGE_SOURCE: BLACK AND WHITE FILM
SOURCE_IMAGE_ID: NAPP 9153 102
SOURCE_IMAGE_DATE: 1997 08 28
SOURCE_DEM_DATE: 1986 00 00
AGENCY: WESTERN MAPPING CENTER (WMC)
PRODUCER: ANALYTICAL SURVEYS INC.
PRODUCTION_SYSTEM: ORBIT OR_RECTIFY V.5.2
COMPRESSION: UNDEFINED
STANDARD_VERSION: 1996 12
METADATA_DATE: 2001 05 17
DATA_FILE_SIZE: 43320840
BYTE_COUNT: 5640
