FILENAME: O4610945.NES.1150795.tif
QUADRANGLE_NAME: DEADMANS BASIN RESERVOIR
QUADRANT: NE
WEST_LONGITUDE: -109 26 15.00000
EAST_LONGITUDE: -109 22 30.00000
NORTH_LATITUDE: 46 22 30.00000
SOUTH_LATITUDE: 46 18 45.00000
PRODUCTION_DATE: 2001 05 16
RASTER_ORDER: LEFT_RIGHT/TOP_BOTTOM
BAND_ORGANIZATION: SINGLE FILE
BAND_CONTENT: BLACK&WHITE
BAND_CONTENT: UNDEFINED
BAND_CONTENT: UNDEFINED
BITS_PER_PIXEL: 8
SAMPLES_AND_LINES: 5640 7680
HORIZONTAL_DATUM: NAD83
HORIZONTAL_COORDINATE_SYSTEM: UTM
COORDINATE_ZONE: 12
HORIZONTAL_UNITS: METERS
HORIZONTAL_RESOLUTION: 1.00000
SECONDARY_HORIZONTAL_DATUM: NAD27
XY_ORIGIN: 619800.00000 5137320.00000
SECONDARY_XY_ORIGIN: 619859.96100 5137107.53800
NATION: US
STATE: MT
NW_QUAD_CORNER_XY: 620167.35100 5136900.16400
NE_QUAD_CORNER_XY: 624973.98600 5136996.97200
SE_QUAD_CORNERY_XY: 625116.52100 5130052.50100
SW_QUAD_CORNER_XY: 620304.40100 5129955.68300
SECONDARY_NW_QUAD_XY: 620171.00600 5136681.99200
SECONDARY_NE_QUAD_XY: 624977.78700 5136778.80300
SECONDARY_SE_QUAD_XY: 625120.32100 5129834.36900
SECONDARY_SW_QUAD_XY: 620308.05500 5129737.54900
RMSE_XY: 1.33000
IMAGE_SOURCE: BLACK AND WHITE FILM
SOURCE_IMAGE_ID: NAPP 9153 156
SOURCE_IMAGE_DATE: 1997 08 28
SOURCE_DEM_DATE: 1986 00 00
AGENCY: WESTERN MAPPING CENTER (WMC)
PRODUCER: ANALYTICAL SURVEYS INC.
PRODUCTION_SYSTEM: ORBIT OR_RECTIFY V.5.2
COMPRESSION: UNDEFINED
STANDARD_VERSION: 1996 12
METADATA_DATE: 2001 06 21
DATA_FILE_SIZE: 43320840
BYTE_COUNT: 5640
