FILENAME: O4610945.NWS.1150796.tif
QUADRANGLE_NAME: DEADMANS BASIN RESERVOIR
QUADRANT: NW
WEST_LONGITUDE: -109 30 0.00000
EAST_LONGITUDE: -109 26 15.00000
NORTH_LATITUDE: 46 22 30.00000
SOUTH_LATITUDE: 46 18 45.00000
PRODUCTION_DATE: 2001 05 16
RASTER_ORDER: LEFT_RIGHT/TOP_BOTTOM
BAND_ORGANIZATION: SINGLE FILE
BAND_CONTENT: BLACK&WHITE
BAND_CONTENT: UNDEFINED
BAND_CONTENT: UNDEFINED
BITS_PER_PIXEL: 8
SAMPLES_AND_LINES: 5610 7680
HORIZONTAL_DATUM: NAD83
HORIZONTAL_COORDINATE_SYSTEM: UTM
COORDINATE_ZONE: 12
HORIZONTAL_UNITS: METERS
HORIZONTAL_RESOLUTION: 1.00000
SECONDARY_HORIZONTAL_DATUM: NAD27
XY_ORIGIN: 615000.00000 5137230.00000
SECONDARY_XY_ORIGIN: 615059.92300 5137017.50400
NATION: US
STATE: MT
NW_QUAD_CORNER_XY: 615360.70900 5136807.15400
NE_QUAD_CORNER_XY: 620167.35100 5136900.16400
SE_QUAD_CORNERY_XY: 620304.40100 5129955.68300
SW_QUAD_CORNER_XY: 615492.27500 5129862.66400
SECONDARY_NW_QUAD_XY: 615364.21800 5136588.97900
SECONDARY_NE_QUAD_XY: 620171.00600 5136681.99200
SECONDARY_SE_QUAD_XY: 620308.05500 5129737.54900
SECONDARY_SW_QUAD_XY: 615495.78300 5129644.52600
RMSE_XY: 1.37000
IMAGE_SOURCE: BLACK AND WHITE FILM
SOURCE_IMAGE_ID: NAPP 9153 224
SOURCE_IMAGE_DATE: 1997 08 28
SOURCE_IMAGE_ID: NAPP 9153 222
SOURCE_IMAGE_DATE: 1997 08 28
SOURCE_DEM_DATE: 1986 00 00
AGENCY: WESTERN MAPPING CENTER (WMC)
PRODUCER: ANALYTICAL SURVEYS INC.
PRODUCTION_SYSTEM: ORBIT OR_RECTIFY V.5.2
COMPRESSION: UNDEFINED
STANDARD_VERSION: 1996 12
METADATA_DATE: 2001 06 21
DATA_FILE_SIZE: 43090410
BYTE_COUNT: 5610
