FILENAME: O4610940.NWS.1150824.tif
QUADRANGLE_NAME: CUSHMAN NE
QUADRANT: NW
WEST_LONGITUDE: -109 7 30.00000
EAST_LONGITUDE: -109 3 45.00000
NORTH_LATITUDE: 46 30 0.00000
SOUTH_LATITUDE: 46 26 15.00000
PRODUCTION_DATE: 2001 05 21
RASTER_ORDER: LEFT_RIGHT/TOP_BOTTOM
BAND_ORGANIZATION: SINGLE FILE
BAND_CONTENT: BLACK&WHITE
BAND_CONTENT: UNDEFINED
BAND_CONTENT: UNDEFINED
BITS_PER_PIXEL: 8
SAMPLES_AND_LINES: 5640 7710
HORIZONTAL_DATUM: NAD83
HORIZONTAL_COORDINATE_SYSTEM: UTM
COORDINATE_ZONE: 12
HORIZONTAL_UNITS: METERS
HORIZONTAL_RESOLUTION: 1.00000
SECONDARY_HORIZONTAL_DATUM: NAD27
XY_ORIGIN: 643500.00000 5151750.00000
SECONDARY_XY_ORIGIN: 643559.68900 5151537.30500
NATION: US
STATE: MT
NW_QUAD_CORNER_XY: 643870.98100 5151311.25200
NE_QUAD_CORNER_XY: 648666.58800 5151427.02900
SE_QUAD_CORNERY_XY: 648836.90900 5144482.47700
SW_QUAD_CORNER_XY: 644035.80300 5144366.68700
SECONDARY_NW_QUAD_XY: 643875.36800 5151093.02400
SECONDARY_NE_QUAD_XY: 648671.12200 5151208.80500
SECONDARY_SE_QUAD_XY: 648841.44100 5144264.28800
SECONDARY_SW_QUAD_XY: 644040.19000 5144148.49500
RMSE_XY: 1.23000
IMAGE_SOURCE: BLACK AND WHITE FILM
SOURCE_IMAGE_ID: NAPP 9129 162
SOURCE_IMAGE_DATE: 1996 07 27
SOURCE_DEM_DATE: 1986 00 00
AGENCY: WESTERN MAPPING CENTER (WMC)
PRODUCER: ANALYTICAL SURVEYS INC.
PRODUCTION_SYSTEM: ORBIT OR_RECTIFY V.5.2
COMPRESSION: UNDEFINED
STANDARD_VERSION: 1996 12
METADATA_DATE: 2001 05 21
DATA_FILE_SIZE: 43490040
BYTE_COUNT: 5640
