FILENAME: O4610940.SWS.1150826.tif
QUADRANGLE_NAME: CUSHMAN NE
QUADRANT: SW
WEST_LONGITUDE: -109 7 30.00000
EAST_LONGITUDE: -109 3 45.00000
NORTH_LATITUDE: 46 26 15.00000
SOUTH_LATITUDE: 46 22 30.00000
PRODUCTION_DATE: 2001 05 21
RASTER_ORDER: LEFT_RIGHT/TOP_BOTTOM
BAND_ORGANIZATION: SINGLE FILE
BAND_CONTENT: BLACK&WHITE
BAND_CONTENT: UNDEFINED
BAND_CONTENT: UNDEFINED
BITS_PER_PIXEL: 8
SAMPLES_AND_LINES: 5640 7680
HORIZONTAL_DATUM: NAD83
HORIZONTAL_COORDINATE_SYSTEM: UTM
COORDINATE_ZONE: 12
HORIZONTAL_UNITS: METERS
HORIZONTAL_RESOLUTION: 1.00000
SECONDARY_HORIZONTAL_DATUM: NAD27
XY_ORIGIN: 643680.00000 5144790.00000
SECONDARY_XY_ORIGIN: 643739.78200 5144577.48800
NATION: US
STATE: MT
NW_QUAD_CORNER_XY: 644035.80300 5144366.68700
NE_QUAD_CORNER_XY: 648836.90900 5144482.47700
SE_QUAD_CORNERY_XY: 649007.05100 5137537.99300
SW_QUAD_CORNER_XY: 644200.45400 5137422.19100
SECONDARY_NW_QUAD_XY: 644040.19000 5144148.49500
SECONDARY_NE_QUAD_XY: 648841.44100 5144264.28800
SECONDARY_SE_QUAD_XY: 649011.58300 5137319.84000
SECONDARY_SW_QUAD_XY: 644204.83900 5137204.03500
RMSE_XY: 1.05000
IMAGE_SOURCE: BLACK AND WHITE FILM
SOURCE_IMAGE_ID: NAPP 9129 160
SOURCE_IMAGE_DATE: 1996 07 27
SOURCE_DEM_DATE: 1986 00 00
AGENCY: WESTERN MAPPING CENTER (WMC)
PRODUCER: ANALYTICAL SURVEYS INC.
PRODUCTION_SYSTEM: ORBIT OR_RECTIFY V.5.2
COMPRESSION: UNDEFINED
STANDARD_VERSION: 1996 12
METADATA_DATE: 2001 05 21
DATA_FILE_SIZE: 43320840
BYTE_COUNT: 5640
