FILENAME: O4610939.NES.1150847.tif
QUADRANGLE_NAME: CUSHMAN NW
QUADRANT: NE
WEST_LONGITUDE: -109 11 15.00000
EAST_LONGITUDE: -109 7 30.00000
NORTH_LATITUDE: 46 30 0.00000
SOUTH_LATITUDE: 46 26 15.00000
PRODUCTION_DATE: 2001 05 16
RASTER_ORDER: LEFT_RIGHT/TOP_BOTTOM
BAND_ORGANIZATION: SINGLE FILE
BAND_CONTENT: BLACK&WHITE
BAND_CONTENT: UNDEFINED
BAND_CONTENT: UNDEFINED
BITS_PER_PIXEL: 8
SAMPLES_AND_LINES: 5640 7710
HORIZONTAL_DATUM: NAD83
HORIZONTAL_COORDINATE_SYSTEM: UTM
COORDINATE_ZONE: 12
HORIZONTAL_UNITS: METERS
HORIZONTAL_RESOLUTION: 1.00000
SECONDARY_HORIZONTAL_DATUM: NAD27
XY_ORIGIN: 638700.00000 5151630.00000
SECONDARY_XY_ORIGIN: 638759.78000 5151417.29100
NATION: US
STATE: MT
NW_QUAD_CORNER_XY: 639075.36500 5151199.27300
NE_QUAD_CORNER_XY: 643870.98100 5151311.25200
SE_QUAD_CORNERY_XY: 644035.80300 5144366.68700
SW_QUAD_CORNER_XY: 639234.69000 5144254.69600
SECONDARY_NW_QUAD_XY: 639079.60600 5150981.04100
SECONDARY_NE_QUAD_XY: 643875.36800 5151093.02400
SECONDARY_SE_QUAD_XY: 644040.19000 5144148.49500
SECONDARY_SW_QUAD_XY: 639238.93000 5144036.50000
RMSE_XY: 1.11000
IMAGE_SOURCE: BLACK AND WHITE FILM
SOURCE_IMAGE_ID: NAPP 9130 63
SOURCE_IMAGE_DATE: 1996 07 27
SOURCE_DEM_DATE: 1986 00 00
AGENCY: WESTERN MAPPING CENTER (WMC)
PRODUCER: ANALYTICAL SURVEYS INC.
PRODUCTION_SYSTEM: ORBIT OR_RECTIFY V.5.2
COMPRESSION: UNDEFINED
STANDARD_VERSION: 1996 12
METADATA_DATE: 2001 05 16
DATA_FILE_SIZE: 43490040
BYTE_COUNT: 5640
