FILENAME: O4610939.SES.1150849.tif
QUADRANGLE_NAME: CUSHMAN NW
QUADRANT: SE
WEST_LONGITUDE: -109 11 15.00000
EAST_LONGITUDE: -109 7 30.00000
NORTH_LATITUDE: 46 26 15.00000
SOUTH_LATITUDE: 46 22 30.00000
PRODUCTION_DATE: 2001 05 16
RASTER_ORDER: LEFT_RIGHT/TOP_BOTTOM
BAND_ORGANIZATION: SINGLE FILE
BAND_CONTENT: BLACK&WHITE
BAND_CONTENT: UNDEFINED
BAND_CONTENT: UNDEFINED
BITS_PER_PIXEL: 8
SAMPLES_AND_LINES: 5670 7680
HORIZONTAL_DATUM: NAD83
HORIZONTAL_COORDINATE_SYSTEM: UTM
COORDINATE_ZONE: 12
HORIZONTAL_UNITS: METERS
HORIZONTAL_RESOLUTION: 1.00000
SECONDARY_HORIZONTAL_DATUM: NAD27
XY_ORIGIN: 638850.00000 5144670.00000
SECONDARY_XY_ORIGIN: 638909.88200 5144457.47500
NATION: US
STATE: MT
NW_QUAD_CORNER_XY: 639234.69000 5144254.69600
NE_QUAD_CORNER_XY: 644035.80300 5144366.68700
SE_QUAD_CORNERY_XY: 644200.45400 5137422.19100
SW_QUAD_CORNER_XY: 639393.84800 5137310.18800
SECONDARY_NW_QUAD_XY: 639238.93000 5144036.50000
SECONDARY_NE_QUAD_XY: 644040.19000 5144148.49500
SECONDARY_SE_QUAD_XY: 644204.83900 5137204.03500
SECONDARY_SW_QUAD_XY: 639398.08700 5137092.02800
RMSE_XY: 1.34000
IMAGE_SOURCE: BLACK AND WHITE FILM
SOURCE_IMAGE_ID: NAPP 9130 65
SOURCE_IMAGE_DATE: 1996 07 27
SOURCE_DEM_DATE: 1986 00 00
AGENCY: WESTERN MAPPING CENTER (WMC)
PRODUCER: ANALYTICAL SURVEYS INC.
PRODUCTION_SYSTEM: ORBIT OR_RECTIFY V.5.2
COMPRESSION: UNDEFINED
STANDARD_VERSION: 1996 12
METADATA_DATE: 2001 05 16
DATA_FILE_SIZE: 43551270
BYTE_COUNT: 5670
