FILENAME: O4610939.SWS.1150850.tif
QUADRANGLE_NAME: CUSHMAN NW
QUADRANT: SW
WEST_LONGITUDE: -109 15 0.00000
EAST_LONGITUDE: -109 11 15.00000
NORTH_LATITUDE: 46 26 15.00000
SOUTH_LATITUDE: 46 22 30.00000
PRODUCTION_DATE: 2001 05 16
RASTER_ORDER: LEFT_RIGHT/TOP_BOTTOM
BAND_ORGANIZATION: SINGLE FILE
BAND_CONTENT: BLACK&WHITE
BAND_CONTENT: UNDEFINED
BAND_CONTENT: UNDEFINED
BITS_PER_PIXEL: 8
SAMPLES_AND_LINES: 5670 7710
HORIZONTAL_DATUM: NAD83
HORIZONTAL_COORDINATE_SYSTEM: UTM
COORDINATE_ZONE: 12
HORIZONTAL_UNITS: METERS
HORIZONTAL_RESOLUTION: 1.00000
SECONDARY_HORIZONTAL_DATUM: NAD27
XY_ORIGIN: 634050.00000 5144580.00000
SECONDARY_XY_ORIGIN: 634109.98100 5144367.46000
NATION: US
STATE: MT
NW_QUAD_CORNER_XY: 634433.56800 5144146.50300
NE_QUAD_CORNER_XY: 639234.69000 5144254.69600
SE_QUAD_CORNERY_XY: 639393.84800 5137310.18800
SW_QUAD_CORNER_XY: 634587.23500 5137201.98400
SECONDARY_NW_QUAD_XY: 634437.66200 5143928.30400
SECONDARY_NE_QUAD_XY: 639238.93000 5144036.50000
SECONDARY_SE_QUAD_XY: 639398.08700 5137092.02800
SECONDARY_SW_QUAD_XY: 634591.32800 5136983.82100
RMSE_XY: 1.74000
IMAGE_SOURCE: BLACK AND WHITE FILM
SOURCE_IMAGE_ID: NAPP 9130 128
SOURCE_IMAGE_DATE: 1996 07 27
SOURCE_DEM_DATE: 1986 00 00
AGENCY: WESTERN MAPPING CENTER (WMC)
PRODUCER: ANALYTICAL SURVEYS INC.
PRODUCTION_SYSTEM: ORBIT OR_RECTIFY V.5.2
COMPRESSION: UNDEFINED
STANDARD_VERSION: 1996 12
METADATA_DATE: 2001 05 16
DATA_FILE_SIZE: 43721370
BYTE_COUNT: 5670
