FILENAME: O4610937.SES.1150841.tif
QUADRANGLE_NAME: HALBERT CREEK SOUTH
QUADRANT: SE
WEST_LONGITUDE: -109 26 15.00000
EAST_LONGITUDE: -109 22 30.00000
NORTH_LATITUDE: 46 26 15.00000
SOUTH_LATITUDE: 46 22 30.00000
PRODUCTION_DATE: 2001 05 16
RASTER_ORDER: LEFT_RIGHT/TOP_BOTTOM
BAND_ORGANIZATION: SINGLE FILE
BAND_CONTENT: BLACK&WHITE
BAND_CONTENT: UNDEFINED
BAND_CONTENT: UNDEFINED
BITS_PER_PIXEL: 8
SAMPLES_AND_LINES: 5640 7680
HORIZONTAL_DATUM: NAD83
HORIZONTAL_COORDINATE_SYSTEM: UTM
COORDINATE_ZONE: 12
HORIZONTAL_UNITS: METERS
HORIZONTAL_RESOLUTION: 1.00000
SECONDARY_HORIZONTAL_DATUM: NAD27
XY_ORIGIN: 619650.00000 5144250.00000
SECONDARY_XY_ORIGIN: 619709.89500 5144037.39500
NATION: US
STATE: MT
NW_QUAD_CORNER_XY: 620030.15600 5143844.71500
NE_QUAD_CORNER_XY: 624831.30100 5143941.51300
SE_QUAD_CORNERY_XY: 624973.98600 5136996.97200
SW_QUAD_CORNER_XY: 620167.35100 5136900.16400
SECONDARY_NW_QUAD_XY: 620033.81200 5143626.50600
SECONDARY_NE_QUAD_XY: 624835.10300 5143723.30800
SECONDARY_SE_QUAD_XY: 624977.78700 5136778.80300
SECONDARY_SW_QUAD_XY: 620171.00600 5136681.99200
RMSE_XY: 1.06000
IMAGE_SOURCE: BLACK AND WHITE FILM
SOURCE_IMAGE_ID: NAPP 9136 133
SOURCE_IMAGE_DATE: 1996 09 10
SOURCE_DEM_DATE: 1986 00 00
AGENCY: WESTERN MAPPING CENTER (WMC)
PRODUCER: ANALYTICAL SURVEYS INC.
PRODUCTION_SYSTEM: ORBIT OR_RECTIFY V.5.2
COMPRESSION: UNDEFINED
STANDARD_VERSION: 1996 12
METADATA_DATE: 2001 07 12
DATA_FILE_SIZE: 43320840
BYTE_COUNT: 5640
