FILENAME: O4610937.SWS.1150842.tif
QUADRANGLE_NAME: HALBERT CREEK SOUTH
QUADRANT: SW
WEST_LONGITUDE: -109 30 0.00000
EAST_LONGITUDE: -109 26 15.00000
NORTH_LATITUDE: 46 26 15.00000
SOUTH_LATITUDE: 46 22 30.00000
PRODUCTION_DATE: 2001 05 16
RASTER_ORDER: LEFT_RIGHT/TOP_BOTTOM
BAND_ORGANIZATION: SINGLE FILE
BAND_CONTENT: BLACK&WHITE
BAND_CONTENT: UNDEFINED
BAND_CONTENT: UNDEFINED
BITS_PER_PIXEL: 8
SAMPLES_AND_LINES: 5640 7680
HORIZONTAL_DATUM: NAD83
HORIZONTAL_COORDINATE_SYSTEM: UTM
COORDINATE_ZONE: 12
HORIZONTAL_UNITS: METERS
HORIZONTAL_RESOLUTION: 1.00000
SECONDARY_HORIZONTAL_DATUM: NAD27
XY_ORIGIN: 614850.00000 5144160.00000
SECONDARY_XY_ORIGIN: 614909.87100 5143947.37500
NATION: US
STATE: MT
NW_QUAD_CORNER_XY: 615229.00500 5143751.71400
NE_QUAD_CORNER_XY: 620030.15600 5143844.71500
SE_QUAD_CORNERY_XY: 620167.35100 5136900.16400
SW_QUAD_CORNER_XY: 615360.70900 5136807.15400
SECONDARY_NW_QUAD_XY: 615232.51400 5143533.50300
SECONDARY_NE_QUAD_XY: 620033.81200 5143626.50600
SECONDARY_SE_QUAD_XY: 620171.00600 5136681.99200
SECONDARY_SW_QUAD_XY: 615364.21800 5136588.97900
RMSE_XY: 1.38000
IMAGE_SOURCE: BLACK AND WHITE FILM
SOURCE_IMAGE_ID: NAPP 9153 226
SOURCE_IMAGE_DATE: 1997 08 28
SOURCE_DEM_DATE: 1986 00 00
AGENCY: WESTERN MAPPING CENTER (WMC)
PRODUCER: ANALYTICAL SURVEYS INC.
PRODUCTION_SYSTEM: ORBIT OR_RECTIFY V.5.2
COMPRESSION: UNDEFINED
STANDARD_VERSION: 1996 12
METADATA_DATE: 2001 05 16
DATA_FILE_SIZE: 43320840
BYTE_COUNT: 5640
