FILENAME: O4610931.SES.1150785.tif
QUADRANGLE_NAME: SAHARA HILL SW
QUADRANT: SE
WEST_LONGITUDE: -109 11 15.00000
EAST_LONGITUDE: -109 7 30.00000
NORTH_LATITUDE: 46 33 45.00000
SOUTH_LATITUDE: 46 30 0.00000
PRODUCTION_DATE: 2001 05 14
RASTER_ORDER: LEFT_RIGHT/TOP_BOTTOM
BAND_ORGANIZATION: SINGLE FILE
BAND_CONTENT: BLACK&WHITE
BAND_CONTENT: UNDEFINED
BAND_CONTENT: UNDEFINED
BITS_PER_PIXEL: 8
SAMPLES_AND_LINES: 5640 7680
HORIZONTAL_DATUM: NAD83
HORIZONTAL_COORDINATE_SYSTEM: UTM
COORDINATE_ZONE: 12
HORIZONTAL_UNITS: METERS
HORIZONTAL_RESOLUTION: 1.00000
SECONDARY_HORIZONTAL_DATUM: NAD27
XY_ORIGIN: 638550.00000 5158560.00000
SECONDARY_XY_ORIGIN: 638609.74700 5158347.15600
NATION: US
STATE: MT
NW_QUAD_CORNER_XY: 638915.87300 5158143.91800
NE_QUAD_CORNER_XY: 643705.98600 5158255.88500
SE_QUAD_CORNERY_XY: 643870.98100 5151311.25200
SW_QUAD_CORNER_XY: 639075.36500 5151199.27300
SECONDARY_NW_QUAD_XY: 638920.11500 5157925.65200
SECONDARY_NE_QUAD_XY: 643710.37400 5158037.62200
SECONDARY_SE_QUAD_XY: 643875.36800 5151093.02400
SECONDARY_SW_QUAD_XY: 639079.60600 5150981.04100
RMSE_XY: 0.81000
IMAGE_SOURCE: BLACK AND WHITE FILM
SOURCE_IMAGE_ID: NAPP 9130 61
SOURCE_IMAGE_DATE: 1996 07 27
SOURCE_DEM_DATE: 1986 00 00
AGENCY: WESTERN MAPPING CENTER (WMC)
PRODUCER: ANALYTICAL SURVEYS INC.
PRODUCTION_SYSTEM: ORBIT OR_RECTIFY V.5.2
COMPRESSION: UNDEFINED
STANDARD_VERSION: 1996 12
METADATA_DATE: 2001 05 16
DATA_FILE_SIZE: 43320840
BYTE_COUNT: 5640
