FILENAME: O4610931.SWS.1150786.tif
QUADRANGLE_NAME: SAHARA HILL SW
QUADRANT: SW
WEST_LONGITUDE: -109 15 0.00000
EAST_LONGITUDE: -109 11 15.00000
NORTH_LATITUDE: 46 33 45.00000
SOUTH_LATITUDE: 46 30 0.00000
PRODUCTION_DATE: 2001 05 14
RASTER_ORDER: LEFT_RIGHT/TOP_BOTTOM
BAND_ORGANIZATION: SINGLE FILE
BAND_CONTENT: BLACK&WHITE
BAND_CONTENT: UNDEFINED
BAND_CONTENT: UNDEFINED
BITS_PER_PIXEL: 8
SAMPLES_AND_LINES: 5640 7710
HORIZONTAL_DATUM: NAD83
HORIZONTAL_COORDINATE_SYSTEM: UTM
COORDINATE_ZONE: 12
HORIZONTAL_UNITS: METERS
HORIZONTAL_RESOLUTION: 1.00000
SECONDARY_HORIZONTAL_DATUM: NAD27
XY_ORIGIN: 633750.00000 5158470.00000
SECONDARY_XY_ORIGIN: 633809.84900 5158257.14400
NATION: US
STATE: MT
NW_QUAD_CORNER_XY: 634125.75100 5158035.75000
NE_QUAD_CORNER_XY: 638915.87300 5158143.91800
SE_QUAD_CORNERY_XY: 639075.36500 5151199.27300
SW_QUAD_CORNER_XY: 634279.74000 5151091.09200
SECONDARY_NW_QUAD_XY: 634129.84700 5157817.48000
SECONDARY_NE_QUAD_XY: 638920.11500 5157925.65200
SECONDARY_SE_QUAD_XY: 639079.60600 5150981.04100
SECONDARY_SW_QUAD_XY: 634283.83500 5150872.85700
RMSE_XY: 1.62000
IMAGE_SOURCE: BLACK AND WHITE FILM
SOURCE_IMAGE_ID: NAPP 9153 26
SOURCE_IMAGE_DATE: 1997 08 28
SOURCE_DEM_DATE: 1986 00 00
AGENCY: WESTERN MAPPING CENTER (WMC)
PRODUCER: ANALYTICAL SURVEYS INC.
PRODUCTION_SYSTEM: ORBIT OR_RECTIFY V.5.2
COMPRESSION: UNDEFINED
STANDARD_VERSION: 1996 12
METADATA_DATE: 2001 05 16
DATA_FILE_SIZE: 43490040
BYTE_COUNT: 5640
