FILENAME: O4610930.SWS.1150782.tif
QUADRANGLE_NAME: ROTHIEMAY
QUADRANT: SW
WEST_LONGITUDE: -109 22 30.00000
EAST_LONGITUDE: -109 18 45.00000
NORTH_LATITUDE: 46 33 45.00000
SOUTH_LATITUDE: 46 30 0.00000
PRODUCTION_DATE: 2001 05 14
RASTER_ORDER: LEFT_RIGHT/TOP_BOTTOM
BAND_ORGANIZATION: SINGLE FILE
BAND_CONTENT: BLACK&WHITE
BAND_CONTENT: UNDEFINED
BAND_CONTENT: UNDEFINED
BITS_PER_PIXEL: 8
SAMPLES_AND_LINES: 5610 7680
HORIZONTAL_DATUM: NAD83
HORIZONTAL_COORDINATE_SYSTEM: UTM
COORDINATE_ZONE: 12
HORIZONTAL_UNITS: METERS
HORIZONTAL_RESOLUTION: 1.00000
SECONDARY_HORIZONTAL_DATUM: NAD27
XY_ORIGIN: 624180.00000 5158260.00000
SECONDARY_XY_ORIGIN: 624239.79100 5158047.12700
NATION: US
STATE: MT
NW_QUAD_CORNER_XY: 624545.48300 5157830.80500
NE_QUAD_CORNER_XY: 629335.62100 5157931.37900
SE_QUAD_CORNERY_XY: 629484.10700 5150986.70900
SW_QUAD_CORNER_XY: 624688.46700 5150886.12400
SECONDARY_NW_QUAD_XY: 624549.28600 5157612.53000
SECONDARY_NE_QUAD_XY: 629339.57100 5157713.10600
SECONDARY_SE_QUAD_XY: 629488.05600 5150768.47100
SECONDARY_SW_QUAD_XY: 624692.26900 5150667.88300
RMSE_XY: 0.86000
IMAGE_SOURCE: BLACK AND WHITE FILM
SOURCE_IMAGE_ID: NAPP 9153 110
SOURCE_IMAGE_DATE: 1997 08 28
SOURCE_DEM_DATE: 1979 00 00
AGENCY: WESTERN MAPPING CENTER (WMC)
PRODUCER: ANALYTICAL SURVEYS INC.
PRODUCTION_SYSTEM: ORBIT OR_RECTIFY V.5.2
COMPRESSION: UNDEFINED
STANDARD_VERSION: 1996 12
METADATA_DATE: 2001 05 15
DATA_FILE_SIZE: 43090410
BYTE_COUNT: 5610
