FILENAME: O4610924.SWS.1150814.tif
QUADRANGLE_NAME: SAHARA HILL
QUADRANT: SW
WEST_LONGITUDE: -109 7 30.00000
EAST_LONGITUDE: -109 3 45.00000
NORTH_LATITUDE: 46 41 15.00000
SOUTH_LATITUDE: 46 37 30.00000
PRODUCTION_DATE: 2001 05 17
RASTER_ORDER: LEFT_RIGHT/TOP_BOTTOM
BAND_ORGANIZATION: SINGLE FILE
BAND_CONTENT: BLACK&WHITE
BAND_CONTENT: UNDEFINED
BAND_CONTENT: UNDEFINED
BITS_PER_PIXEL: 8
SAMPLES_AND_LINES: 5610 7680
HORIZONTAL_DATUM: NAD83
HORIZONTAL_COORDINATE_SYSTEM: UTM
COORDINATE_ZONE: 12
HORIZONTAL_UNITS: METERS
HORIZONTAL_RESOLUTION: 1.00000
SECONDARY_HORIZONTAL_DATUM: NAD27
XY_ORIGIN: 643020.00000 5172570.00000
SECONDARY_XY_ORIGIN: 643079.56200 5172356.89000
NATION: US
STATE: MT
NW_QUAD_CORNER_XY: 643375.48000 5172145.35400
NE_QUAD_CORNER_XY: 648154.55900 5172261.09000
SE_QUAD_CORNERY_XY: 648325.41300 5165316.33600
SW_QUAD_CORNER_XY: 643540.81900 5165200.58500
SECONDARY_NW_QUAD_XY: 643379.87000 5171927.02500
SECONDARY_NE_QUAD_XY: 648159.09500 5172042.76400
SECONDARY_SE_QUAD_XY: 648329.94900 5165098.04300
SECONDARY_SW_QUAD_XY: 643545.20800 5164982.28900
RMSE_XY: 1.56000
IMAGE_SOURCE: BLACK AND WHITE FILM
SOURCE_IMAGE_ID: NAPP 9129 168
SOURCE_IMAGE_DATE: 1996 07 27
SOURCE_DEM_DATE: 1979 00 00
AGENCY: WESTERN MAPPING CENTER (WMC)
PRODUCER: ANALYTICAL SURVEYS INC.
PRODUCTION_SYSTEM: ORBIT OR_RECTIFY V.5.2
COMPRESSION: UNDEFINED
STANDARD_VERSION: 1996 12
METADATA_DATE: 2001 05 18
DATA_FILE_SIZE: 43090410
BYTE_COUNT: 5610
