FILENAME: O4610923.NWS.1150772.tif
QUADRANGLE_NAME: PATTERSON CANYON
QUADRANT: NW
WEST_LONGITUDE: -109 15 0.00000
EAST_LONGITUDE: -109 11 15.00000
NORTH_LATITUDE: 46 45 0.00000
SOUTH_LATITUDE: 46 41 15.00000
PRODUCTION_DATE: 2001 05 09
RASTER_ORDER: LEFT_RIGHT/TOP_BOTTOM
BAND_ORGANIZATION: SINGLE FILE
BAND_CONTENT: BLACK&WHITE
BAND_CONTENT: UNDEFINED
BAND_CONTENT: UNDEFINED
BITS_PER_PIXEL: 8
SAMPLES_AND_LINES: 5610 7680
HORIZONTAL_DATUM: NAD83
HORIZONTAL_COORDINATE_SYSTEM: UTM
COORDINATE_ZONE: 12
HORIZONTAL_UNITS: METERS
HORIZONTAL_RESOLUTION: 1.00000
SECONDARY_HORIZONTAL_DATUM: NAD27
XY_ORIGIN: 633300.00000 5179290.00000
SECONDARY_XY_ORIGIN: 633359.77900 5179076.74400
NATION: US
STATE: MT
NW_QUAD_CORNER_XY: 633662.82200 5178870.13800
NE_QUAD_CORNER_XY: 638436.40100 5178978.26700
SE_QUAD_CORNERY_XY: 638596.39100 5172033.41500
SW_QUAD_CORNER_XY: 633817.29200 5171925.27300
SECONDARY_NW_QUAD_XY: 633666.92000 5178651.77000
SECONDARY_NE_QUAD_XY: 638440.64500 5178759.90100
SECONDARY_SE_QUAD_XY: 638600.63400 5171815.08200
SECONDARY_SW_QUAD_XY: 633821.38900 5171706.93700
RMSE_XY: 2.46000
IMAGE_SOURCE: BLACK AND WHITE FILM
SOURCE_IMAGE_ID: NAPP 9153 32
SOURCE_IMAGE_DATE: 1997 08 28
SOURCE_IMAGE_ID: NAPP 9136 48
SOURCE_IMAGE_DATE: 1996 09 10
SOURCE_IMAGE_ID: NAPP 9136 15
SOURCE_IMAGE_DATE: 1996 09 10
SOURCE_DEM_DATE: 1979 00 00
AGENCY: WESTERN MAPPING CENTER (WMC)
PRODUCER: ANALYTICAL SURVEYS INC.
PRODUCTION_SYSTEM: ORBIT OR_RECTIFY V.5.2
COMPRESSION: UNDEFINED
STANDARD_VERSION: 1996 12
METADATA_DATE: 2001 05 11
DATA_FILE_SIZE: 43090410
BYTE_COUNT: 5610
