FILENAME: O4610923.SWS.1150774.tif
QUADRANGLE_NAME: PATTERSON CANYON
QUADRANT: SW
WEST_LONGITUDE: -109 15 0.00000
EAST_LONGITUDE: -109 11 15.00000
NORTH_LATITUDE: 46 41 15.00000
SOUTH_LATITUDE: 46 37 30.00000
PRODUCTION_DATE: 2001 05 09
RASTER_ORDER: LEFT_RIGHT/TOP_BOTTOM
BAND_ORGANIZATION: SINGLE FILE
BAND_CONTENT: BLACK&WHITE
BAND_CONTENT: UNDEFINED
BAND_CONTENT: UNDEFINED
BITS_PER_PIXEL: 8
SAMPLES_AND_LINES: 5610 7710
HORIZONTAL_DATUM: NAD83
HORIZONTAL_COORDINATE_SYSTEM: UTM
COORDINATE_ZONE: 12
HORIZONTAL_UNITS: METERS
HORIZONTAL_RESOLUTION: 1.00000
SECONDARY_HORIZONTAL_DATUM: NAD27
XY_ORIGIN: 633450.00000 5172360.00000
SECONDARY_XY_ORIGIN: 633509.80200 5172146.87700
NATION: US
STATE: MT
NW_QUAD_CORNER_XY: 633817.29200 5171925.27300
NE_QUAD_CORNER_XY: 638596.39100 5172033.41500
SE_QUAD_CORNERY_XY: 638756.21500 5165088.63200
SW_QUAD_CORNER_XY: 633971.60200 5164980.47700
SECONDARY_NW_QUAD_XY: 633821.38900 5171706.93700
SECONDARY_NE_QUAD_XY: 638600.63400 5171815.08200
SECONDARY_SE_QUAD_XY: 638760.45800 5164870.33200
SECONDARY_SW_QUAD_XY: 633975.69800 5164762.17400
RMSE_XY: 2.82000
IMAGE_SOURCE: BLACK AND WHITE FILM
SOURCE_IMAGE_ID: NAPP 9153 30
SOURCE_IMAGE_DATE: 1997 08 28
SOURCE_IMAGE_ID: NAPP 9153 32
SOURCE_IMAGE_DATE: 1997 08 28
SOURCE_IMAGE_ID: NAPP 9139 185
SOURCE_IMAGE_DATE: 1996 08 26
SOURCE_DEM_DATE: 1979 00 00
AGENCY: WESTERN MAPPING CENTER (WMC)
PRODUCER: ANALYTICAL SURVEYS INC.
PRODUCTION_SYSTEM: ORBIT OR_RECTIFY V.5.2
COMPRESSION: UNDEFINED
STANDARD_VERSION: 1996 12
METADATA_DATE: 2001 05 11
DATA_FILE_SIZE: 43258710
BYTE_COUNT: 5610
