FILENAME: O4610921.NWS.1150764.tif
QUADRANGLE_NAME: SNOW SAUCER COULEE
QUADRANT: NW
WEST_LONGITUDE: -109 30 0.00000
EAST_LONGITUDE: -109 26 15.00000
NORTH_LATITUDE: 46 45 0.00000
SOUTH_LATITUDE: 46 41 15.00000
PRODUCTION_DATE: 2001 05 09
RASTER_ORDER: LEFT_RIGHT/TOP_BOTTOM
BAND_ORGANIZATION: SINGLE FILE
BAND_CONTENT: BLACK&WHITE
BAND_CONTENT: UNDEFINED
BAND_CONTENT: UNDEFINED
BITS_PER_PIXEL: 8
SAMPLES_AND_LINES: 5610 7650
HORIZONTAL_DATUM: NAD83
HORIZONTAL_COORDINATE_SYSTEM: UTM
COORDINATE_ZONE: 12
HORIZONTAL_UNITS: METERS
HORIZONTAL_RESOLUTION: 1.00000
SECONDARY_HORIZONTAL_DATUM: NAD27
XY_ORIGIN: 614190.00000 5178870.00000
SECONDARY_XY_ORIGIN: 614249.45600 5178656.68800
NATION: US
STATE: MT
NW_QUAD_CORNER_XY: 614568.41600 5178475.58400
NE_QUAD_CORNER_XY: 619342.03100 5178568.52900
SE_QUAD_CORNERY_XY: 619479.94200 5171623.62500
SW_QUAD_CORNER_XY: 614700.80900 5171530.66800
SECONDARY_NW_QUAD_XY: 614571.92800 5178257.20300
SECONDARY_NE_QUAD_XY: 619345.68900 5178350.15100
SECONDARY_SE_QUAD_XY: 619483.60000 5171405.27900
SECONDARY_SW_QUAD_XY: 614704.32100 5171312.31900
RMSE_XY: 3.37000
IMAGE_SOURCE: BLACK AND WHITE FILM
SOURCE_IMAGE_ID: NAPP 9153 236
SOURCE_IMAGE_DATE: 1997 08 28
SOURCE_IMAGE_ID: NAPP 9153 238
SOURCE_IMAGE_DATE: 1997 08 28
SOURCE_IMAGE_ID: NAPP 11010 46
SOURCE_IMAGE_DATE: 1998 08 13
SOURCE_IMAGE_ID: NAPP 9153 234
SOURCE_IMAGE_DATE: 1997 08 28
SOURCE_DEM_DATE: 1993 00 00
AGENCY: WESTERN MAPPING CENTER (WMC)
PRODUCER: ANALYTICAL SURVEYS INC.
PRODUCTION_SYSTEM: ORBIT OR_RECTIFY V.5.2
COMPRESSION: UNDEFINED
STANDARD_VERSION: 1996 12
METADATA_DATE: 2001 05 11
DATA_FILE_SIZE: 42922110
BYTE_COUNT: 5610
