FILENAME: O4610921.SWS.1150766.tif
QUADRANGLE_NAME: SNOW SAUCER COULEE
QUADRANT: SW
WEST_LONGITUDE: -109 30 0.00000
EAST_LONGITUDE: -109 26 15.00000
NORTH_LATITUDE: 46 41 15.00000
SOUTH_LATITUDE: 46 37 30.00000
PRODUCTION_DATE: 2001 05 09
RASTER_ORDER: LEFT_RIGHT/TOP_BOTTOM
BAND_ORGANIZATION: SINGLE FILE
BAND_CONTENT: BLACK&WHITE
BAND_CONTENT: UNDEFINED
BAND_CONTENT: UNDEFINED
BITS_PER_PIXEL: 8
SAMPLES_AND_LINES: 5580 7680
HORIZONTAL_DATUM: NAD83
HORIZONTAL_COORDINATE_SYSTEM: UTM
COORDINATE_ZONE: 12
HORIZONTAL_UNITS: METERS
HORIZONTAL_RESOLUTION: 1.00000
SECONDARY_HORIZONTAL_DATUM: NAD27
XY_ORIGIN: 614340.00000 5171940.00000
SECONDARY_XY_ORIGIN: 614399.54800 5171726.82700
NATION: US
STATE: MT
NW_QUAD_CORNER_XY: 614700.80900 5171530.66800
NE_QUAD_CORNER_XY: 619479.94200 5171623.62500
SE_QUAD_CORNERY_XY: 619617.71100 5164678.79100
SW_QUAD_CORNER_XY: 614833.06400 5164585.82300
SECONDARY_NW_QUAD_XY: 614704.32100 5171312.31900
SECONDARY_NE_QUAD_XY: 619483.60000 5171405.27900
SECONDARY_SE_QUAD_XY: 619621.36800 5164460.47900
SECONDARY_SW_QUAD_XY: 614836.57600 5164367.50700
RMSE_XY: 1.62000
IMAGE_SOURCE: BLACK AND WHITE FILM
SOURCE_IMAGE_ID: NAPP 9153 234
SOURCE_IMAGE_DATE: 1997 08 28
SOURCE_DEM_DATE: 1993 00 00
AGENCY: WESTERN MAPPING CENTER (WMC)
PRODUCER: ANALYTICAL SURVEYS INC.
PRODUCTION_SYSTEM: ORBIT OR_RECTIFY V.5.2
COMPRESSION: UNDEFINED
STANDARD_VERSION: 1996 12
METADATA_DATE: 2001 05 11
DATA_FILE_SIZE: 42859980
BYTE_COUNT: 5580
