FILENAME: O4610916.NES.1150807.tif
QUADRANGLE_NAME: SOUTH BENCH
QUADRANT: NE
WEST_LONGITUDE: -109 3 45.00000
EAST_LONGITUDE: -109 0 0.00000
NORTH_LATITUDE: 46 52 30.00000
SOUTH_LATITUDE: 46 48 45.00000
PRODUCTION_DATE: 2001 05 17
RASTER_ORDER: LEFT_RIGHT/TOP_BOTTOM
BAND_ORGANIZATION: SINGLE FILE
BAND_CONTENT: BLACK&WHITE
BAND_CONTENT: UNDEFINED
BAND_CONTENT: UNDEFINED
BITS_PER_PIXEL: 8
SAMPLES_AND_LINES: 5610 7710
HORIZONTAL_DATUM: NAD83
HORIZONTAL_COORDINATE_SYSTEM: UTM
COORDINATE_ZONE: 12
HORIZONTAL_UNITS: METERS
HORIZONTAL_RESOLUTION: 1.00000
SECONDARY_HORIZONTAL_DATUM: NAD27
XY_ORIGIN: 647280.00000 5193540.00000
SECONDARY_XY_ORIGIN: 647339.21300 5193326.40100
NATION: US
STATE: MT
NW_QUAD_CORNER_XY: 647640.93300 5193095.75900
NE_QUAD_CORNER_XY: 652403.42100 5193215.24500
SE_QUAD_CORNERY_XY: 652580.34000 5186270.30400
SW_QUAD_CORNER_XY: 647812.31900 5186150.80200
SECONDARY_NW_QUAD_XY: 647645.47100 5192877.33900
SECONDARY_NE_QUAD_XY: 652408.10600 5192996.82900
SECONDARY_SE_QUAD_XY: 652585.02400 5186051.91800
SECONDARY_SW_QUAD_XY: 647816.85700 5185932.41300
RMSE_XY: 3.21000
IMAGE_SOURCE: BLACK AND WHITE FILM
SOURCE_IMAGE_ID: NAPP 9129 64
SOURCE_IMAGE_DATE: 1996 07 27
SOURCE_IMAGE_ID: NAPP 9129 66
SOURCE_IMAGE_DATE: 1996 07 27
SOURCE_DEM_DATE: 1993 00 00
AGENCY: WESTERN MAPPING CENTER (WMC)
PRODUCER: ANALYTICAL SURVEYS INC.
PRODUCTION_SYSTEM: ORBIT OR_RECTIFY V.5.2
COMPRESSION: UNDEFINED
STANDARD_VERSION: 1996 12
METADATA_DATE: 2001 05 18
DATA_FILE_SIZE: 43258710
BYTE_COUNT: 5610
