FILENAME: O4610916.SWS.1150810.tif
QUADRANGLE_NAME: SOUTH BENCH
QUADRANT: SW
WEST_LONGITUDE: -109 7 30.00000
EAST_LONGITUDE: -109 3 45.00000
NORTH_LATITUDE: 46 48 45.00000
SOUTH_LATITUDE: 46 45 0.00000
PRODUCTION_DATE: 2001 05 17
RASTER_ORDER: LEFT_RIGHT/TOP_BOTTOM
BAND_ORGANIZATION: SINGLE FILE
BAND_CONTENT: BLACK&WHITE
BAND_CONTENT: UNDEFINED
BAND_CONTENT: UNDEFINED
BITS_PER_PIXEL: 8
SAMPLES_AND_LINES: 5640 7680
HORIZONTAL_DATUM: NAD83
HORIZONTAL_COORDINATE_SYSTEM: UTM
COORDINATE_ZONE: 12
HORIZONTAL_UNITS: METERS
HORIZONTAL_RESOLUTION: 1.00000
SECONDARY_HORIZONTAL_DATUM: NAD27
XY_ORIGIN: 642660.00000 5186460.00000
SECONDARY_XY_ORIGIN: 642719.43700 5186246.56300
NATION: US
STATE: MT
NW_QUAD_CORNER_XY: 643044.28700 5186035.09600
NE_QUAD_CORNER_XY: 647812.31900 5186150.80200
SE_QUAD_CORNERY_XY: 647983.52800 5179205.91300
SW_QUAD_CORNER_XY: 643209.96900 5179090.19100
SECONDARY_NW_QUAD_XY: 643048.67800 5185816.70300
SECONDARY_NE_QUAD_XY: 647816.85700 5185932.41300
SECONDARY_SE_QUAD_XY: 647988.06500 5178987.55400
SECONDARY_SW_QUAD_XY: 643214.36000 5178871.83000
RMSE_XY: 3.73000
IMAGE_SOURCE: BLACK AND WHITE FILM
SOURCE_IMAGE_ID: NAPP 9129 172
SOURCE_IMAGE_DATE: 1996 07 27
SOURCE_IMAGE_ID: NAPP 9129 170
SOURCE_IMAGE_DATE: 1996 07 27
SOURCE_DEM_DATE: 1993 00 00
AGENCY: WESTERN MAPPING CENTER (WMC)
PRODUCER: ANALYTICAL SURVEYS INC.
PRODUCTION_SYSTEM: ORBIT OR_RECTIFY V.5.2
COMPRESSION: UNDEFINED
STANDARD_VERSION: 1996 12
METADATA_DATE: 2001 05 18
DATA_FILE_SIZE: 43320840
BYTE_COUNT: 5640
