FILENAME: O4610915.NES.1150759.tif
QUADRANGLE_NAME: ALASKA BENCH
QUADRANT: NE
WEST_LONGITUDE: -109 11 15.00000
EAST_LONGITUDE: -109 7 30.00000
NORTH_LATITUDE: 46 52 30.00000
SOUTH_LATITUDE: 46 48 45.00000
PRODUCTION_DATE: 2001 05 07
RASTER_ORDER: LEFT_RIGHT/TOP_BOTTOM
BAND_ORGANIZATION: SINGLE FILE
BAND_CONTENT: BLACK&WHITE
BAND_CONTENT: UNDEFINED
BAND_CONTENT: UNDEFINED
BITS_PER_PIXEL: 8
SAMPLES_AND_LINES: 5610 7710
HORIZONTAL_DATUM: NAD83
HORIZONTAL_COORDINATE_SYSTEM: UTM
COORDINATE_ZONE: 12
HORIZONTAL_UNITS: METERS
HORIZONTAL_RESOLUTION: 1.00000
SECONDARY_HORIZONTAL_DATUM: NAD27
XY_ORIGIN: 637740.00000 5193300.00000
SECONDARY_XY_ORIGIN: 637799.49500 5193086.34100
NATION: US
STATE: MT
NW_QUAD_CORNER_XY: 638115.92300 5192868.17500
NE_QUAD_CORNER_XY: 642878.43300 5192980.06900
SE_QUAD_CORNERY_XY: 643044.28700 5186035.09600
SW_QUAD_CORNER_XY: 638276.24500 5185923.18700
SECONDARY_NW_QUAD_XY: 638120.16800 5192649.74800
SECONDARY_NE_QUAD_XY: 642882.82500 5192761.64600
SECONDARY_SE_QUAD_XY: 643048.67800 5185816.70300
SECONDARY_SW_QUAD_XY: 638280.48900 5185704.79000
RMSE_XY: 4.42000
IMAGE_SOURCE: BLACK AND WHITE FILM
SOURCE_IMAGE_ID: NAPP 9139 191
SOURCE_IMAGE_DATE: 1996 08 26
SOURCE_IMAGE_ID: NAPP 9139 189
SOURCE_IMAGE_DATE: 1996 08 26
SOURCE_IMAGE_ID: NAPP 9136 17
SOURCE_IMAGE_DATE: 1996 09 10
SOURCE_DEM_DATE: 1993 00 00
AGENCY: WESTERN MAPPING CENTER (WMC)
PRODUCER: ANALYTICAL SURVEYS INC.
PRODUCTION_SYSTEM: ORBIT OR_RECTIFY V.5.2
COMPRESSION: UNDEFINED
STANDARD_VERSION: 1996 12
METADATA_DATE: 2001 05 09
DATA_FILE_SIZE: 43258710
BYTE_COUNT: 5610
