FILENAME: O4610915.SES.1150761.tif
QUADRANGLE_NAME: ALASKA BENCH
QUADRANT: SE
WEST_LONGITUDE: -109 11 15.00000
EAST_LONGITUDE: -109 7 30.00000
NORTH_LATITUDE: 46 48 45.00000
SOUTH_LATITUDE: 46 45 0.00000
PRODUCTION_DATE: 2001 05 07
RASTER_ORDER: LEFT_RIGHT/TOP_BOTTOM
BAND_ORGANIZATION: SINGLE FILE
BAND_CONTENT: BLACK&WHITE
BAND_CONTENT: UNDEFINED
BAND_CONTENT: UNDEFINED
BITS_PER_PIXEL: 8
SAMPLES_AND_LINES: 5610 7680
HORIZONTAL_DATUM: NAD83
HORIZONTAL_COORDINATE_SYSTEM: UTM
COORDINATE_ZONE: 12
HORIZONTAL_UNITS: METERS
HORIZONTAL_RESOLUTION: 1.00000
SECONDARY_HORIZONTAL_DATUM: NAD27
XY_ORIGIN: 637920.00000 5186340.00000
SECONDARY_XY_ORIGIN: 637979.57100 5186126.54500
NATION: US
STATE: MT
NW_QUAD_CORNER_XY: 638276.24500 5185923.18700
NE_QUAD_CORNER_XY: 643044.28700 5186035.09600
SE_QUAD_CORNERY_XY: 643209.96900 5179090.19100
SW_QUAD_CORNER_XY: 638436.40100 5178978.26700
SECONDARY_NW_QUAD_XY: 638280.48900 5185704.79000
SECONDARY_NE_QUAD_XY: 643048.67800 5185816.70300
SECONDARY_SE_QUAD_XY: 643214.36000 5178871.83000
SECONDARY_SW_QUAD_XY: 638440.64500 5178759.90100
RMSE_XY: 2.81000
IMAGE_SOURCE: BLACK AND WHITE FILM
SOURCE_IMAGE_ID: NAPP 9139 189
SOURCE_IMAGE_DATE: 1996 08 26
SOURCE_IMAGE_ID: NAPP 9136 15
SOURCE_IMAGE_DATE: 1996 09 10
SOURCE_DEM_DATE: 1993 00 00
AGENCY: WESTERN MAPPING CENTER (WMC)
PRODUCER: ANALYTICAL SURVEYS INC.
PRODUCTION_SYSTEM: ORBIT OR_RECTIFY V.5.2
COMPRESSION: UNDEFINED
STANDARD_VERSION: 1996 12
METADATA_DATE: 2001 05 11
DATA_FILE_SIZE: 43090410
BYTE_COUNT: 5610
