FILENAME: O4610915.SWS.1150762.tif
QUADRANGLE_NAME: ALASKA BENCH
QUADRANT: SW
WEST_LONGITUDE: -109 15 0.00000
EAST_LONGITUDE: -109 11 15.00000
NORTH_LATITUDE: 46 48 45.00000
SOUTH_LATITUDE: 46 45 0.00000
PRODUCTION_DATE: 2001 05 07
RASTER_ORDER: LEFT_RIGHT/TOP_BOTTOM
BAND_ORGANIZATION: SINGLE FILE
BAND_CONTENT: BLACK&WHITE
BAND_CONTENT: UNDEFINED
BAND_CONTENT: UNDEFINED
BITS_PER_PIXEL: 8
SAMPLES_AND_LINES: 5610 7710
HORIZONTAL_DATUM: NAD83
HORIZONTAL_COORDINATE_SYSTEM: UTM
COORDINATE_ZONE: 12
HORIZONTAL_UNITS: METERS
HORIZONTAL_RESOLUTION: 1.00000
SECONDARY_HORIZONTAL_DATUM: NAD27
XY_ORIGIN: 633150.00000 5186250.00000
SECONDARY_XY_ORIGIN: 633209.70600 5186036.52700
NATION: US
STATE: MT
NW_QUAD_CORNER_XY: 633508.19200 5185815.07300
NE_QUAD_CORNER_XY: 638276.24500 5185923.18700
SE_QUAD_CORNERY_XY: 638436.40100 5178978.26700
SW_QUAD_CORNER_XY: 633662.82200 5178870.13800
SECONDARY_NW_QUAD_XY: 633512.29000 5185596.67300
SECONDARY_NE_QUAD_XY: 638280.48900 5185704.79000
SECONDARY_SE_QUAD_XY: 638440.64500 5178759.90100
SECONDARY_SW_QUAD_XY: 633666.92000 5178651.77000
RMSE_XY: 3.31000
IMAGE_SOURCE: BLACK AND WHITE FILM
SOURCE_IMAGE_ID: NAPP 9136 15
SOURCE_IMAGE_DATE: 1996 09 10
SOURCE_IMAGE_ID: NAPP 9136 46
SOURCE_IMAGE_DATE: 1996 09 10
SOURCE_DEM_DATE: 1993 00 00
AGENCY: WESTERN MAPPING CENTER (WMC)
PRODUCER: ANALYTICAL SURVEYS INC.
PRODUCTION_SYSTEM: ORBIT OR_RECTIFY V.5.2
COMPRESSION: UNDEFINED
STANDARD_VERSION: 1996 12
METADATA_DATE: 2001 05 11
DATA_FILE_SIZE: 43258710
BYTE_COUNT: 5610
