FILENAME: O4610913.SWS.1150754.tif
QUADRANGLE_NAME: JUMP OFF PEAK
QUADRANT: SW
WEST_LONGITUDE: -109 30 0.00000
EAST_LONGITUDE: -109 26 15.00000
NORTH_LATITUDE: 46 48 45.00000
SOUTH_LATITUDE: 46 45 0.00000
PRODUCTION_DATE: 2001 05 07
RASTER_ORDER: LEFT_RIGHT/TOP_BOTTOM
BAND_ORGANIZATION: SINGLE FILE
BAND_CONTENT: BLACK&WHITE
BAND_CONTENT: UNDEFINED
BAND_CONTENT: UNDEFINED
BITS_PER_PIXEL: 8
SAMPLES_AND_LINES: 5580 7680
HORIZONTAL_DATUM: NAD83
HORIZONTAL_COORDINATE_SYSTEM: UTM
COORDINATE_ZONE: 12
HORIZONTAL_UNITS: METERS
HORIZONTAL_RESOLUTION: 1.00000
SECONDARY_HORIZONTAL_DATUM: NAD27
XY_ORIGIN: 614070.00000 5185830.00000
SECONDARY_XY_ORIGIN: 614129.53800 5185616.43600
NATION: US
STATE: MT
NW_QUAD_CORNER_XY: 614435.88600 5185420.57100
NE_QUAD_CORNER_XY: 619203.97600 5185513.50300
SE_QUAD_CORNERY_XY: 619342.03100 5178568.52900
SW_QUAD_CORNER_XY: 614568.41600 5178475.58400
SECONDARY_NW_QUAD_XY: 614439.39900 5185202.15900
SECONDARY_NE_QUAD_XY: 619207.63500 5185295.09400
SECONDARY_SE_QUAD_XY: 619345.68900 5178350.15100
SECONDARY_SW_QUAD_XY: 614571.92800 5178257.20300
RMSE_XY: 4.66000
IMAGE_SOURCE: BLACK AND WHITE FILM
SOURCE_IMAGE_ID: NAPP 9153 238
SOURCE_IMAGE_DATE: 1997 08 28
SOURCE_IMAGE_ID: NAPP 11013 6
SOURCE_IMAGE_DATE: 1998 08 27
SOURCE_IMAGE_ID: NAPP 9153 236
SOURCE_IMAGE_DATE: 1997 08 28
SOURCE_DEM_DATE: 1993 00 00
AGENCY: WESTERN MAPPING CENTER (WMC)
PRODUCER: ANALYTICAL SURVEYS INC.
PRODUCTION_SYSTEM: ORBIT OR_RECTIFY V.5.2
COMPRESSION: UNDEFINED
STANDARD_VERSION: 1996 12
METADATA_DATE: 2001 05 11
DATA_FILE_SIZE: 42859980
BYTE_COUNT: 5580
