BEGIN_USGS_DOQ_HEADER *
QUADRANGLE_NAME "ACKLEY LAKE" 3.75 or 7.5-min. name*
QUADRANT NW quadrant indicator if cell size = 3.75-minutes*
WEST_LONGITUDE -110 0 0.000 signed deg min sec SDDD MM SS.SSS*
EAST_LONGITUDE -109 56 15.000 signed deg min sec SDDD MM SS.SSS*
NORTH_LATITUDE 47 0 0.000 signed deg min sec SDDD MM SS.SSS*
SOUTH_LATITUDE 46 56 15.000 signed deg min sec SDDD MM SS.SSS*
PRODUCTION_DATE 2002 12 16 yyyy mm dd*
RASTER_ORDER LEFT_RIGHT/TOP_BOTTOM video display order*
BAND_ORGANIZATION "SINGLE FILE" single file or BSQ, or BIL or BIP*
BAND_CONTENT BLACK&WHITE black&white or red green blue*
BITS_PER_PIXEL 8 radiometric resolution*
SAMPLES_AND_LINES 5506 7616 number of columns and rows*
HORIZONTAL_DATUM NAD83 primary horizontal datum*
HORIZONTAL_COORDINATE_SYSTEM UTM *
COORDINATE_ZONE 12 coordinate system zone number*
HORIZONTAL_UNITS METERS coordinate system units*
HORIZONTAL_RESOLUTION 1.00 pixel horiz. ground sample distance*
SECONDARY_HORIZONTAL_DATUM NAD27 secondary horizontal datum*
XY_ORIGIN 575667.000 5206013.000 coord. of upper left pixel pri. datum*
SECONDARY_XY_ORIGIN 575727.000 5205800.000 coord upper left pixel sec datum*
NATION US nation code*
STATE MT state fip code*
NW_QUAD_CORNER_XY 576025.312 5205649.348 XY coords. of pri. NW quad corner*
NE_QUAD_CORNER_XY 580776.858 5205711.901 XY coords. of pri. NE quad corner*
SE_QUAD_CORNER_XY 580871.015 5198766.621 XY coords. of pri. SE quad corner*
SW_QUAD_CORNER_XY 576113.929 5198704.059 XY coords. of pri. SW quad corner*
SECONDARY_NW_QUAD_XY 576027.655 5205430.828 XY coords. - sec. NW quad cor.*
SECONDARY_NE_QUAD_XY 580779.347 5205493.384 XY coords. - sec. NE quad cor.*
SECONDARY_SE_QUAD_XY 580873.504 5198548.133 XY coords. - sec. SE quad cor.*
SECONDARY_SW_QUAD_XY 576116.272 5198485.568 XY coords. - sec. SW quad cor.*
RMSE_XY 0.60 doq horiz. accuracy*
IMAGE_SOURCE "BLACK AND WHITE FILM" b&w, cir, natural color, other*
SOURCE_IMAGE_ID "NAPP 9154 113" source image id*
SOURCE_IMAGE_DATE 1997 8 28 source image date as yyyy mm dd*
SOURCE_DEM_DATE 1971 00 00 source dem date yyyy mm dd*
AGENCY "ROCKY MOUNTAIN MAPPING CENTER (RMMC)" oversight agency*
PRODUCER "ROCKY MOUNTAIN MAPPING CENTER (RMMC)" *
PRODUCTION_SYSTEM "DV2.6.4 1/00 OV2.6 6/00" production system*
STANDARD_VERSION 1996 12 version of DOQ standard*
METADATA_DATE 2002 12 16 date created or changed, yyyy mm dd*
DATA_FILE_SIZE 41939202 data set size in bytes*
BYTE_COUNT 5506 header byte count*
