FILENAME: O4611064.NES.1115249.tif
QUADRANGLE_NAME: BATTLESHIP BUTTE
QUADRANT: NE
WEST_LONGITUDE: -110 3 45.00000
EAST_LONGITUDE: -110 0 0.00000
NORTH_LATITUDE: 46 7 30.00000
SOUTH_LATITUDE: 46 3 45.00000
PRODUCTION_DATE: 2000 11 14
RASTER_ORDER: LEFT_RIGHT/TOP_BOTTOM
BAND_ORGANIZATION: SINGLE FILE
BAND_CONTENT: BLACK&WHITE
BAND_CONTENT: UNDEFINED
BAND_CONTENT: UNDEFINED
BITS_PER_PIXEL: 8
SAMPLES_AND_LINES: 5580 7620
HORIZONTAL_DATUM: NAD83
HORIZONTAL_COORDINATE_SYSTEM: UTM
COORDINATE_ZONE: 12
HORIZONTAL_UNITS: METERS
HORIZONTAL_RESOLUTION: 1.00000
SECONDARY_HORIZONTAL_DATUM: NAD27
XY_ORIGIN: 572070.00000 5108730.00000
SECONDARY_XY_ORIGIN: 572129.54100 5108518.30600
NATION: US
STATE: MT
NW_QUAD_CORNER_XY: 572429.03000 5108363.16900
NE_QUAD_CORNER_XY: 577257.61400 5108422.02500
SE_QUAD_CORNERY_XY: 577344.94500 5101477.77100
SW_QUAD_CORNER_XY: 572510.90100 5101418.91000
SECONDARY_NW_QUAD_XY: 572431.22100 5108145.12800
SECONDARY_NE_QUAD_XY: 577259.95100 5108203.98700
SECONDARY_SE_QUAD_XY: 577347.28100 5101259.77300
SECONDARY_SW_QUAD_XY: 572513.09200 5101200.91000
RMSE_XY: 0.99000
IMAGE_SOURCE: BLACK AND WHITE FILM
SOURCE_IMAGE_ID: NAPP 9172 15
SOURCE_IMAGE_DATE: 1997 08 23
SOURCE_DEM_DATE: 1972 00 00
AGENCY: WESTERN MAPPING CENTER (WMC)
PRODUCER: ANALYTICAL SURVEYS INC.
PRODUCTION_SYSTEM: ORBIT OR_RECTIFY V.5.2
COMPRESSION: UNDEFINED
STANDARD_VERSION: 1996 12
METADATA_DATE: 2000 11 14
DATA_FILE_SIZE: 42525180
BYTE_COUNT: 5580
