FILENAME: O4611064.SES.1115251.tif
QUADRANGLE_NAME: BATTLESHIP BUTTE
QUADRANT: SE
WEST_LONGITUDE: -110 3 45.00000
EAST_LONGITUDE: -110 0 0.00000
NORTH_LATITUDE: 46 3 45.00000
SOUTH_LATITUDE: 46 0 0.00000
PRODUCTION_DATE: 2000 11 14
RASTER_ORDER: LEFT_RIGHT/TOP_BOTTOM
BAND_ORGANIZATION: SINGLE FILE
BAND_CONTENT: BLACK&WHITE
BAND_CONTENT: UNDEFINED
BAND_CONTENT: UNDEFINED
BITS_PER_PIXEL: 8
SAMPLES_AND_LINES: 5610 7650
HORIZONTAL_DATUM: NAD83
HORIZONTAL_COORDINATE_SYSTEM: UTM
COORDINATE_ZONE: 12
HORIZONTAL_UNITS: METERS
HORIZONTAL_RESOLUTION: 1.00000
SECONDARY_HORIZONTAL_DATUM: NAD27
XY_ORIGIN: 572130.00000 5101800.00000
SECONDARY_XY_ORIGIN: 572189.70500 5101588.64800
NATION: US
STATE: MT
NW_QUAD_CORNER_XY: 572510.90100 5101418.91000
NE_QUAD_CORNER_XY: 577344.94500 5101477.77100
SE_QUAD_CORNERY_XY: 577432.18300 5094533.59100
SW_QUAD_CORNER_XY: 572592.68600 5094474.72500
SECONDARY_NW_QUAD_XY: 572513.09200 5101200.91000
SECONDARY_NE_QUAD_XY: 577347.28100 5101259.77300
SECONDARY_SE_QUAD_XY: 577434.51800 5094315.63400
SECONDARY_SW_QUAD_XY: 572594.87600 5094256.76600
RMSE_XY: 1.33000
IMAGE_SOURCE: BLACK AND WHITE FILM
SOURCE_IMAGE_ID: NAPP 9172 13
SOURCE_IMAGE_DATE: 1997 08 23
SOURCE_DEM_DATE: 1972 00 00
AGENCY: WESTERN MAPPING CENTER (WMC)
PRODUCER: ANALYTICAL SURVEYS INC.
PRODUCTION_SYSTEM: ORBIT OR_RECTIFY V.5.2
COMPRESSION: UNDEFINED
STANDARD_VERSION: 1996 12
METADATA_DATE: 2000 11 14
DATA_FILE_SIZE: 42922110
BYTE_COUNT: 5610
