FILENAME: e:\updates\vol010_q1_2001\tiles\O4611063.NES.tif
QUADRANGLE_NAME: AMELONG CREEK
QUADRANT: NE
WEST_LONGITUDE: -110 11 15.00000
EAST_LONGITUDE: -110 7 30.00000
NORTH_LATITUDE: 46 7 30.00000
SOUTH_LATITUDE: 46 3 45.00000
PRODUCTION_DATE: 2000 11 05
RASTER_ORDER: LEFT_RIGHT/TOP_BOTTOM
BAND_ORGANIZATION: SINGLE FILE
BAND_CONTENT: BLACK&WHITE
BAND_CONTENT: UNDEFINED
BAND_CONTENT: UNDEFINED
BITS_PER_PIXEL: 8
SAMPLES_AND_LINES: 5580 7620
HORIZONTAL_DATUM: NAD83
HORIZONTAL_COORDINATE_SYSTEM: UTM
COORDINATE_ZONE: 12
HORIZONTAL_UNITS: METERS
HORIZONTAL_RESOLUTION: 1.00000
SECONDARY_HORIZONTAL_DATUM: NAD27
XY_ORIGIN: 562410.00000 5108610.00000
SECONDARY_XY_ORIGIN: 562469.45800 5108398.58300
NATION: US
STATE: MT
NW_QUAD_CORNER_XY: 562771.85200 5108256.84800
NE_QUAD_CORNER_XY: 567600.44300 5108308.10900
SE_QUAD_CORNERY_XY: 567676.85500 5101363.84600
SW_QUAD_CORNER_XY: 562842.80600 5101312.58100
SECONDARY_NW_QUAD_XY: 562773.75100 5108038.80400
SECONDARY_NE_QUAD_XY: 567602.48700 5108090.06700
SECONDARY_SE_QUAD_XY: 567678.90000 5101145.84400
SECONDARY_SW_QUAD_XY: 562844.70400 5101094.57700
RMSE_XY: 1.86000
IMAGE_SOURCE: BLACK AND WHITE FILM
SOURCE_IMAGE_ID: NAPP 9172 113
SOURCE_IMAGE_DATE: 1997 08 23
SOURCE_DEM_DATE: 1993 00 00
AGENCY: WESTERN MAPPING CENTER (WMC)
PRODUCER: ANALYTICAL SURVEYS INC.
PRODUCTION_SYSTEM: ORBIT OR_RECTIFY V.5.2
COMPRESSION: UNDEFINED
STANDARD_VERSION: 1996 12
METADATA_DATE: 2000 11 18
DATA_FILE_SIZE: 42525180
BYTE_COUNT: 5580
