FILENAME: e:\updates\vol010_q1_2001\tiles\O4611063.SWS.tif
QUADRANGLE_NAME: AMELONG CREEK
QUADRANT: SW
WEST_LONGITUDE: -110 15 0.00000
EAST_LONGITUDE: -110 11 15.00000
NORTH_LATITUDE: 46 3 45.00000
SOUTH_LATITUDE: 46 0 0.00000
PRODUCTION_DATE: 2000 11 05
RASTER_ORDER: LEFT_RIGHT/TOP_BOTTOM
BAND_ORGANIZATION: SINGLE FILE
BAND_CONTENT: BLACK&WHITE
BAND_CONTENT: UNDEFINED
BAND_CONTENT: UNDEFINED
BITS_PER_PIXEL: 8
SAMPLES_AND_LINES: 5580 7620
HORIZONTAL_DATUM: NAD83
HORIZONTAL_COORDINATE_SYSTEM: UTM
COORDINATE_ZONE: 12
HORIZONTAL_UNITS: METERS
HORIZONTAL_RESOLUTION: 1.00000
SECONDARY_HORIZONTAL_DATUM: NAD27
XY_ORIGIN: 557640.00000 5101620.00000
SECONDARY_XY_ORIGIN: 557699.65400 5101409.02700
NATION: US
STATE: MT
NW_QUAD_CORNER_XY: 558008.75400 5101265.11300
NE_QUAD_CORNER_XY: 562842.80600 5101312.58100
SE_QUAD_CORNERY_XY: 562913.68500 5094368.38800
SW_QUAD_CORNER_XY: 558074.18000 5094320.91700
SECONDARY_NW_QUAD_XY: 558010.50700 5101047.10800
SECONDARY_NE_QUAD_XY: 562844.70400 5101094.57700
SECONDARY_SE_QUAD_XY: 562915.58200 5094150.42600
SECONDARY_SW_QUAD_XY: 558075.93200 5094102.95400
RMSE_XY: 1.10000
IMAGE_SOURCE: BLACK AND WHITE FILM
SOURCE_IMAGE_ID: NAPP 12010 63
SOURCE_IMAGE_DATE: 1999 08 18
SOURCE_IMAGE_ID: NAPP 12010 61
SOURCE_IMAGE_DATE: 1999 08 18
SOURCE_IMAGE_ID: NAPP 9172 185
SOURCE_IMAGE_DATE: 1997 08 23
SOURCE_DEM_DATE: 1993 00 00
AGENCY: WESTERN MAPPING CENTER (WMC)
PRODUCER: ANALYTICAL SURVEYS INC.
PRODUCTION_SYSTEM: ORBIT OR_RECTIFY V.5.2
COMPRESSION: UNDEFINED
STANDARD_VERSION: 1996 12
METADATA_DATE: 2000 11 22
DATA_FILE_SIZE: 42525180
BYTE_COUNT: 5580
