FILENAME: O4611062.SES.1145695.tif
QUADRANGLE_NAME: CRAZY PEAK
QUADRANT: SE
WEST_LONGITUDE: -110 18 45.00000
EAST_LONGITUDE: -110 15 0.00000
NORTH_LATITUDE: 46 3 45.00000
SOUTH_LATITUDE: 46 0 0.00000
PRODUCTION_DATE: 2001 03 13
RASTER_ORDER: LEFT_RIGHT/TOP_BOTTOM
BAND_ORGANIZATION: SINGLE FILE
BAND_CONTENT: BLACK&WHITE
BAND_CONTENT: UNDEFINED
BAND_CONTENT: UNDEFINED
BITS_PER_PIXEL: 8
SAMPLES_AND_LINES: 5580 7650
HORIZONTAL_DATUM: NAD83
HORIZONTAL_COORDINATE_SYSTEM: UTM
COORDINATE_ZONE: 12
HORIZONTAL_UNITS: METERS
HORIZONTAL_RESOLUTION: 1.00000
SECONDARY_HORIZONTAL_DATUM: NAD27
XY_ORIGIN: 552810.00000 5101590.00000
SECONDARY_XY_ORIGIN: 552869.63500 5101379.07500
NATION: US
STATE: MT
NW_QUAD_CORNER_XY: 553174.70000 5101221.44300
NE_QUAD_CORNER_XY: 558008.75400 5101265.11300
SE_QUAD_CORNERY_XY: 558074.18000 5094320.91700
SW_QUAD_CORNER_XY: 553234.67300 5094277.24400
SECONDARY_NW_QUAD_XY: 553176.30600 5101003.43700
SECONDARY_NE_QUAD_XY: 558010.50700 5101047.10800
SECONDARY_SE_QUAD_XY: 558075.93200 5094102.95400
SECONDARY_SW_QUAD_XY: 553236.27900 5094059.27900
RMSE_XY: 4.22000
IMAGE_SOURCE: BLACK AND WHITE FILM
SOURCE_IMAGE_ID: NAPP 9185 148
SOURCE_IMAGE_DATE: 1998 07 20
SOURCE_IMAGE_ID: NAPP 9185 149
SOURCE_IMAGE_DATE: 1998 07 20
SOURCE_IMAGE_ID: NAPP 9185 147
SOURCE_IMAGE_DATE: 1998 07 20
SOURCE_IMAGE_ID: NAPP 9185 150
SOURCE_IMAGE_DATE: 1998 07 20
SOURCE_IMAGE_ID: NAPP 11009 99
SOURCE_IMAGE_DATE: 1998 07 22
SOURCE_DEM_DATE: 1993 00 00
AGENCY: WESTERN MAPPING CENTER (WMC)
PRODUCER: ANALYTICAL SURVEYS INC.
PRODUCTION_SYSTEM: ORBIT OR_RECTIFY V.5.2
COMPRESSION: UNDEFINED
STANDARD_VERSION: 1996 12
METADATA_DATE: 2001 03 19
DATA_FILE_SIZE: 42692580
BYTE_COUNT: 5580
